BEGIN:VCALENDAR
PRODID:NingEventWidget-v1
VERSION:2.0
METHOD:PUBLISH
BEGIN:VTIMEZONE
TZID:America/Los_Angeles
X-LIC-LOCATION:America/Los_Angeles
BEGIN:DAYLIGHT
TZOFFSETFROM:-0800
TZOFFSETTO:-0700
TZNAME:PDT
DTSTART:19700308T020000
RRULE:FREQ=YEARLY;BYMONTH=3;BYDAY=2SU
END:DAYLIGHT
BEGIN:STANDARD
TZOFFSETFROM:-0700
TZOFFSETTO:-0800
TZNAME:PST
DTSTART:19701101T020000
RRULE:FREQ=YEARLY;BYMONTH=11;BYDAY=1SU
END:STANDARD
END:VTIMEZONE
BEGIN:VEVENT
UID:1464587:Event:35948
DTSTAMP:20260421T034402Z
SUMMARY:George Clinton, Parliament Funkadelic
DESCRIPTION:\nGeorge Clinton, Parliament Funkadelic\n\nSun, 08/30/09\n
 The Regency Ballroom\n1300 Van Ness, San Francisco, CA 94109\n09:00 PM
 \n\n\n\nFor more information visit https://trueskool.com/events/george
 -clinton-parliament
DTSTART;TZID=America/Los_Angeles:20090830T210000
DTEND;TZID=America/Los_Angeles:20090830T230000
CATEGORIES:funk
LOCATION:The Regency Ballroom, San Francisco, CA  94109
WEBSITE:http://www.ticketmaster.com/event/1C0042CBD5F858D5?artistid=76
 8058&majorcatid=10001&minorcatid=3
URL:http://www.ticketmaster.com/event/1C0042CBD5F858D5?artistid=768058
 &majorcatid=10001&minorcatid=3
CONTACT:
ORGANIZER:Golden Voice
ATTACH;FMTTYPE="image/jpeg":http://storage.ning.com/topology/rest/1.0/
 file/get/2247859263?profile=original
ATTENDEE;ROLE=REQ-PARTICIPANT;PARTSTAT=ACCEPTED;RSVP=TRUE;CN="Ren the 
 Vinyl Archaeologist":https://trueskool.com/profile/xh51jvilojur
END:VEVENT
END:VCALENDAR
