BEGIN:VCALENDAR
PRODID:NingEventWidget-v1
VERSION:2.0
METHOD:PUBLISH
BEGIN:VTIMEZONE
TZID:America/Los_Angeles
X-LIC-LOCATION:America/Los_Angeles
BEGIN:DAYLIGHT
TZOFFSETFROM:-0800
TZOFFSETTO:-0700
TZNAME:PDT
DTSTART:19700308T020000
RRULE:FREQ=YEARLY;BYMONTH=3;BYDAY=2SU
END:DAYLIGHT
BEGIN:STANDARD
TZOFFSETFROM:-0700
TZOFFSETTO:-0800
TZNAME:PST
DTSTART:19701101T020000
RRULE:FREQ=YEARLY;BYMONTH=11;BYDAY=1SU
END:STANDARD
END:VTIMEZONE
BEGIN:VEVENT
UID:1464587:Event:680008
DTSTAMP:20260421T093728Z
SUMMARY:GEORGE CLINTON & PARLIAMENT FUNKADELIC
DESCRIPTION:ENTER TO WIN A PAIR OF TICKETS. WINNER WILL BE DRAWN RANDO
 MLY AND ANNOUNCED 2 DAYS PRIOR TO EVENT.\r\n\r\nMonday, December 17, 2
 018\r\nGEORGE CLINTON & PARLIAMENT FUNKADELIC\r\nThe Independent San F
 rancisco, CA Doors: 7:30pm | Show: 8:00pm\r\n>> BUY TICKETS\r\n\n\nFor
  more information visit https://trueskool.com/events/george-clinton-pa
 rliament-funkadelic-4
DTSTART;TZID=America/Los_Angeles:20181217T200000
DTEND;TZID=America/Los_Angeles:20181217T230000
CATEGORIES:"bay area", oakland, "san francisco", "san jose", berkeley
LOCATION:The Independent, San Francisco
WEBSITE:https://www.ticketfly.com/purchase/event/1784633?camefrom=CFC_
 ANOTHERPLANET_web&amp;amp;amp;brand=anotherplanet&amp;amp;amp;q=c2a4d5
 11-321d-48a8-b386-61133a3da7cb&amp;amp;amp;p=505933c9-9596-4233-a9dc-7
 a919d9a7ab1&amp;amp;amp;ts=1542283271&amp;amp;amp;c=ticketfly&amp;amp;
 amp;e=0010c&amp;amp;amp;rt=Safetynet&amp;amp;amp;h=dc526bb2b7f57c4e7ff
 0e553cfbfe2e0
URL:https://www.ticketfly.com/purchase/event/1784633?camefrom=CFC_ANOT
 HERPLANET_web&amp;amp;amp;brand=anotherplanet&amp;amp;amp;q=c2a4d511-3
 21d-48a8-b386-61133a3da7cb&amp;amp;amp;p=505933c9-9596-4233-a9dc-7a919
 d9a7ab1&amp;amp;amp;ts=1542283271&amp;amp;amp;c=ticketfly&amp;amp;amp;
 e=0010c&amp;amp;amp;rt=Safetynet&amp;amp;amp;h=dc526bb2b7f57c4e7ff0e55
 3cfbfe2e0
CONTACT:
ORGANIZER:Another Planet Ent
ATTACH;FMTTYPE="image/jpeg":http://storage.ning.com/topology/rest/1.0/
 file/get/2247998992?profile=original
ATTENDEE;ROLE=REQ-PARTICIPANT;PARTSTAT=ACCEPTED;RSVP=TRUE;CN="Donte Ha
 rrison":https://trueskool.com/profile/DonteHarrison
ATTENDEE;ROLE=REQ-PARTICIPANT;PARTSTAT=ACCEPTED;RSVP=TRUE;CN="Editor's
  Pick":https://trueskool.com/profile/RentheVinylArchaeologist
END:VEVENT
END:VCALENDAR
