BEGIN:VCALENDAR
PRODID:NingEventWidget-v1
VERSION:2.0
METHOD:PUBLISH
BEGIN:VTIMEZONE
TZID:America/Los_Angeles
X-LIC-LOCATION:America/Los_Angeles
BEGIN:DAYLIGHT
TZOFFSETFROM:-0800
TZOFFSETTO:-0700
TZNAME:PDT
DTSTART:19700308T020000
RRULE:FREQ=YEARLY;BYMONTH=3;BYDAY=2SU
END:DAYLIGHT
BEGIN:STANDARD
TZOFFSETFROM:-0700
TZOFFSETTO:-0800
TZNAME:PST
DTSTART:19701101T020000
RRULE:FREQ=YEARLY;BYMONTH=11;BYDAY=1SU
END:STANDARD
END:VTIMEZONE
BEGIN:VEVENT
UID:1464587:Event:818658
DTSTAMP:20260420T212149Z
SUMMARY:Game Recognize Game: A Bay Area Hip-Hop Trivia Night
DESCRIPTION:From coining the term “player hater” to launching the 
 careers of some of the most beloved players in hip-hop, the Bay Area i
 s the home of game. We’re celebrating that by having a game night!\n
 If you think you’ve got Bay Area hip-hop on lock, put it to the test
  when Rightnowish’s Pendarvis Harshaw and Marisol Medina-Cadena
 host a trivia night with games, a DJ and much more. Prizes will go to
  players who drop the most knowledge. And topping off the event is a s
 pecial conversation between hip-hop historian Eric K. Arnold and Val
 lejo’s Mac Mall — co-writer with JT the Bigga Figga of the 1994 
 hit song, “Game Recognize Game.”\n\nFor more information visit htt
 ps://trueskool.com/events/game-recognize-game-a-bay-area-hip-hop-trivi
 a-night
DTSTART;TZID=America/Los_Angeles:20230511T190000
DTEND;TZID=America/Los_Angeles:20230511T210000
CATEGORIES:san, francisco, bay, area, oakland
LOCATION:KQED Headquarters
WEBSITE:https://www.kqed.org/event/3043
URL:https://www.kqed.org/event/3043
CONTACT:16507593147
ORGANIZER:KQED Live
ATTACH;FMTTYPE="image/jpeg":https://storage.ning.com/topology/rest/1.0
 /file/get/11035707065?profile=original
ATTENDEE;ROLE=REQ-PARTICIPANT;PARTSTAT=ACCEPTED;RSVP=TRUE;CN=marky:htt
 ps://trueskool.com/profile/marky
END:VEVENT
END:VCALENDAR
