BEGIN:VCALENDAR
PRODID:NingEventWidget-v1
VERSION:2.0
METHOD:PUBLISH
BEGIN:VTIMEZONE
TZID:America/Los_Angeles
X-LIC-LOCATION:America/Los_Angeles
BEGIN:DAYLIGHT
TZOFFSETFROM:-0800
TZOFFSETTO:-0700
TZNAME:PDT
DTSTART:19700308T020000
RRULE:FREQ=YEARLY;BYMONTH=3;BYDAY=2SU
END:DAYLIGHT
BEGIN:STANDARD
TZOFFSETFROM:-0700
TZOFFSETTO:-0800
TZNAME:PST
DTSTART:19701101T020000
RRULE:FREQ=YEARLY;BYMONTH=11;BYDAY=1SU
END:STANDARD
END:VTIMEZONE
BEGIN:VEVENT
UID:1464587:Event:310487
DTSTAMP:20260421T130549Z
SUMMARY:Galactic (WIN TICKETS)
DESCRIPTION:\n\nFriday, March 21, 2014\nGalactic\n \n@ The Fillmore S
 F\nDoors 8:00 p.m. // Show 9:00 p.m. Tickets are $32.50 plus applicabl
 e charges.\n>> BUY TICKETS\n\n\n\nFor more information visit https://t
 rueskool.com/events/galactic
DTSTART;TZID=America/Los_Angeles:20140321T210000
DTEND;TZID=America/Los_Angeles:20140321T230000
CATEGORIES:"bay area", "san francisco", "oakland\""
LOCATION:The Fillmore
WEBSITE:http://concerts.livenation.com/event/1C004B42F057F8A3
URL:http://concerts.livenation.com/event/1C004B42F057F8A3
CONTACT:
ORGANIZER;CN="Editor's Pick":https://trueskool.com/profile/RentheVinyl
 Archaeologist
ATTACH;FMTTYPE="image/jpeg":http://storage.ning.com/topology/rest/1.0/
 file/get/2247956364?profile=original
ATTENDEE;ROLE=REQ-PARTICIPANT;PARTSTAT=ACCEPTED;RSVP=TRUE;CN="Maya Cap
 ur":https://trueskool.com/profile/MayaCapur
ATTENDEE;ROLE=REQ-PARTICIPANT;PARTSTAT=ACCEPTED;RSVP=TRUE;CN="Donte Ha
 rrison":https://trueskool.com/profile/DonteHarrison
ATTENDEE;ROLE=REQ-PARTICIPANT;PARTSTAT=ACCEPTED;RSVP=TRUE;CN="DEANinth
 eYAY!":https://trueskool.com/profile/DEANintheYAY
ATTENDEE;ROLE=REQ-PARTICIPANT;PARTSTAT=ACCEPTED;RSVP=TRUE;CN="Sarah Li
 ljedahl":https://trueskool.com/profile/SarahLiljedahl
ATTENDEE;ROLE=REQ-PARTICIPANT;PARTSTAT=ACCEPTED;RSVP=TRUE;CN="Andrew D
 owd-Reilly":https://trueskool.com/profile/AndrewDowdReilly
ATTENDEE;ROLE=REQ-PARTICIPANT;PARTSTAT=ACCEPTED;RSVP=TRUE;CN="Britt Fr
 eier":https://trueskool.com/profile/BrittFreier513
ATTENDEE;ROLE=REQ-PARTICIPANT;PARTSTAT=ACCEPTED;RSVP=TRUE;CN="Virgo Ce
 llars":https://trueskool.com/profile/VirgoCellars
ATTENDEE;ROLE=REQ-PARTICIPANT;PARTSTAT=ACCEPTED;RSVP=TRUE;CN="Stefanie
  Jackson":https://trueskool.com/profile/StefanieJackson
ATTENDEE;ROLE=REQ-PARTICIPANT;PARTSTAT=ACCEPTED;RSVP=TRUE;CN="Ra Smith
 ":https://trueskool.com/profile/RaSmith
ATTENDEE;ROLE=REQ-PARTICIPANT;PARTSTAT=ACCEPTED;RSVP=TRUE;CN="Britt Fr
 eier":https://trueskool.com/profile/BrittFreier
ATTENDEE;ROLE=REQ-PARTICIPANT;PARTSTAT=ACCEPTED;RSVP=TRUE;CN="Elisa Bj
 eldanes":https://trueskool.com/profile/ElisaBjeldanes
ATTENDEE;ROLE=REQ-PARTICIPANT;PARTSTAT=ACCEPTED;RSVP=TRUE;CN=Melissa:h
 ttps://trueskool.com/profile/Melissa
ATTENDEE;ROLE=REQ-PARTICIPANT;PARTSTAT=ACCEPTED;RSVP=TRUE;CN="Sean San
  Jova":https://trueskool.com/profile/SeanSanJova
ATTENDEE;ROLE=REQ-PARTICIPANT;PARTSTAT=ACCEPTED;RSVP=TRUE;CN="Andrea M
 illhouse":https://trueskool.com/profile/AndreaMillhouse
ATTENDEE;ROLE=REQ-PARTICIPANT;PARTSTAT=ACCEPTED;RSVP=TRUE;CN=J:https:/
 /trueskool.com/profile/J321
ATTENDEE;ROLE=REQ-PARTICIPANT;PARTSTAT=ACCEPTED;RSVP=TRUE;CN="Editor's
  Pick":https://trueskool.com/profile/RentheVinylArchaeologist
END:VEVENT
END:VCALENDAR
