BEGIN:VCALENDAR
PRODID:NingEventWidget-v1
VERSION:2.0
METHOD:PUBLISH
BEGIN:VTIMEZONE
TZID:America/Los_Angeles
X-LIC-LOCATION:America/Los_Angeles
BEGIN:DAYLIGHT
TZOFFSETFROM:-0800
TZOFFSETTO:-0700
TZNAME:PDT
DTSTART:19700308T020000
RRULE:FREQ=YEARLY;BYMONTH=3;BYDAY=2SU
END:DAYLIGHT
BEGIN:STANDARD
TZOFFSETFROM:-0700
TZOFFSETTO:-0800
TZNAME:PST
DTSTART:19701101T020000
RRULE:FREQ=YEARLY;BYMONTH=11;BYDAY=1SU
END:STANDARD
END:VTIMEZONE
BEGIN:VEVENT
UID:1464587:Event:672304
DTSTAMP:20260421T082825Z
SUMMARY:G-EAZY
DESCRIPTION:Another Planet Entertainment & Live Nation present  The Be
 autiful & Damned Tour\r\nG-EAZY\r\nTrippie Redd  Phora Anthony Russo\r
 \nBill Graham Civic Auditorium San Francisco, CA\r\nWednesday, Februar
 y 28, 2018 Doors: 6:30pm | Show: 8:00pm\r\n$54.50 – General Admissio
 n\r\n*plus applicable service fees\r\nTickets are also available servi
 ce charge free at The Fox Theater’s Box Office (located on the 19th 
 street side of the theater) on show dates and on Fridays from noon –
  7:00pm.\n\nFor more information visit https://trueskool.com/events/g-
 eazyyy
DTSTART;TZID=America/Los_Angeles:20180228T200000
DTEND;TZID=America/Los_Angeles:20180228T230000
CATEGORIES:"bay area", oakland, "san francisco", "san jose", berkeley
LOCATION:Bill Graham Civic Auditorium, SF
WEBSITE:https://www.ticketmaster.com/geazy-the-beautiful-damned-tour-s
 an-francisco-california-02-28-2018/event/1C00538A4A3160D3?camefrom=CFC
 _ANOTHERPLANET_web&amp;amp;amp;brand=anotherplanet
URL:https://www.ticketmaster.com/geazy-the-beautiful-damned-tour-san-f
 rancisco-california-02-28-2018/event/1C00538A4A3160D3?camefrom=CFC_ANO
 THERPLANET_web&amp;amp;amp;brand=anotherplanet
CONTACT:
ORGANIZER;CN="Editor's Pick":https://trueskool.com/profile/RentheVinyl
 Archaeologist
ATTACH;FMTTYPE="image/jpeg":http://storage.ning.com/topology/rest/1.0/
 file/get/2248003554?profile=original
ATTENDEE;ROLE=REQ-PARTICIPANT;PARTSTAT=ACCEPTED;RSVP=TRUE;CN="Editor's
  Pick":https://trueskool.com/profile/RentheVinylArchaeologist
END:VEVENT
END:VCALENDAR
