BEGIN:VCALENDAR
PRODID:NingEventWidget-v1
VERSION:2.0
METHOD:PUBLISH
BEGIN:VTIMEZONE
TZID:America/Los_Angeles
X-LIC-LOCATION:America/Los_Angeles
BEGIN:DAYLIGHT
TZOFFSETFROM:-0800
TZOFFSETTO:-0700
TZNAME:PDT
DTSTART:19700308T020000
RRULE:FREQ=YEARLY;BYMONTH=3;BYDAY=2SU
END:DAYLIGHT
BEGIN:STANDARD
TZOFFSETFROM:-0700
TZOFFSETTO:-0800
TZNAME:PST
DTSTART:19701101T020000
RRULE:FREQ=YEARLY;BYMONTH=11;BYDAY=1SU
END:STANDARD
END:VTIMEZONE
BEGIN:VEVENT
UID:1464587:Event:656889
DTSTAMP:20260422T154026Z
SUMMARY:G-Eazy & Lil Yachty
DESCRIPTION:WEDNESDAY, DEC 14 G-Eazy & Lil Yachty  P-Lo, Rob Stone, Ca
 leborate, Marty Grimes DJ Amen\nat Oracle Arena, Oakland BUY TICKETS\n
 \n\nFor more information visit https://trueskool.com/events/g-eazy-lil
 -yachty
DTSTART;TZID=America/Los_Angeles:20161214T193000
DTEND;TZID=America/Los_Angeles:20161214T230000
CATEGORIES:"bay area", "san francisco"
LOCATION:Oracle Arena, Oakland
WEBSITE:http://bit.ly/2f4AAlm
URL:http://bit.ly/2f4AAlm
CONTACT:
ORGANIZER:Live Nation
ATTACH;FMTTYPE="image/jpeg":http://storage.ning.com/topology/rest/1.0/
 file/get/2247994723?profile=original
ATTENDEE;ROLE=REQ-PARTICIPANT;PARTSTAT=ACCEPTED;RSVP=TRUE;CN="Editor's
  Pick":https://trueskool.com/profile/RentheVinylArchaeologist
END:VEVENT
END:VCALENDAR
