BEGIN:VCALENDAR
PRODID:NingEventWidget-v1
VERSION:2.0
METHOD:PUBLISH
BEGIN:VTIMEZONE
TZID:America/Los_Angeles
X-LIC-LOCATION:America/Los_Angeles
BEGIN:DAYLIGHT
TZOFFSETFROM:-0800
TZOFFSETTO:-0700
TZNAME:PDT
DTSTART:19700308T020000
RRULE:FREQ=YEARLY;BYMONTH=3;BYDAY=2SU
END:DAYLIGHT
BEGIN:STANDARD
TZOFFSETFROM:-0700
TZOFFSETTO:-0800
TZNAME:PST
DTSTART:19701101T020000
RRULE:FREQ=YEARLY;BYMONTH=11;BYDAY=1SU
END:STANDARD
END:VTIMEZONE
BEGIN:VEVENT
UID:1464587:Event:33307
DTSTAMP:20260421T065649Z
SUMMARY:FUTURECLASSIC feat KON & AMIR (NYC) + OHMEGA WATTS (UBIQUITY)
DESCRIPTION:FUTURECLASSIC our monthly jump that bridges the gap betwee
 n past and present every 1ST FRIDAY at poleng lounge returns on friday
 , june 5 and we're proud to feature world reknown record diggers and p
 arty rockers KON & AMIR (NYC). these dude not only have deep crates, b
 ut \"their compilations and mixtapes are classics and represent a styl
 e of Djing that's true to the essence of Hip-Hop.\" according to A-Tra
 k. in addition, we're proud to have special guest OHMEGA WATTS (UBIQUI
 TY) in the mix as well! the FUTURE OF THE FUNK from both coasts meet a
 t FUTURECLASSIC in june, get ready!\n\nfeaturing\nKON & AMIR (NYC)\n\"
 Kon and Amir are two of the most extraordinary but underrated beat dig
 gers in the game.\" - Lord Finesse\n\nspecial guest\nOHMEGA WATTS (UBI
 QUITY)\n\nalong with\nPROOF (massive selector)\nSHRED ONE (brooklyn ci
 rcus)\nFREDDY ANZURES (wax poetics)\nCOOL CHRIS (groove merchant)\nDJ 
 SURESHOT (million dollar crates)\n\ncelebrating the birthday of soul s
 ector's own\nMIKEY DISKO!\n\ninfo: going.com/futureclassicjune09\nweb:
  massiveselector.com\n\nFor more information visit https://trueskool.c
 om/events/futureclassic-feat-kon-amir
DTSTART;TZID=America/Los_Angeles:20090605T220000
DTEND;TZID=America/Los_Angeles:20090606T020000
CATEGORIES:funk, soul, disco, boogie, rare, groove, jazzy, hip-hop, af
 ro-latin
LOCATION:poleng lounge, san francisco, ca
WEBSITE:http://www.massiveselector.com
URL:http://www.massiveselector.com
CONTACT:
ORGANIZER;CN=marky:https://trueskool.com/profile/marky
ATTACH;FMTTYPE="image/jpeg":http://storage.ning.com/topology/rest/1.0/
 file/get/2247857356?profile=original
ATTENDEE;ROLE=REQ-PARTICIPANT;PARTSTAT=ACCEPTED;RSVP=TRUE;CN=marky:htt
 ps://trueskool.com/profile/marky
END:VEVENT
END:VCALENDAR
