BEGIN:VCALENDAR
PRODID:NingEventWidget-v1
VERSION:2.0
METHOD:PUBLISH
BEGIN:VTIMEZONE
TZID:America/Los_Angeles
X-LIC-LOCATION:America/Los_Angeles
BEGIN:DAYLIGHT
TZOFFSETFROM:-0800
TZOFFSETTO:-0700
TZNAME:PDT
DTSTART:19700308T020000
RRULE:FREQ=YEARLY;BYMONTH=3;BYDAY=2SU
END:DAYLIGHT
BEGIN:STANDARD
TZOFFSETFROM:-0700
TZOFFSETTO:-0800
TZNAME:PST
DTSTART:19701101T020000
RRULE:FREQ=YEARLY;BYMONTH=11;BYDAY=1SU
END:STANDARD
END:VTIMEZONE
BEGIN:VEVENT
UID:1464587:Event:42203
DTSTAMP:20260421T094428Z
SUMMARY:FUTURE SHOCK
DESCRIPTION:friday, october 30\nFUTURE SHOCK\n@ madrone, 500 divisader
 o st, sf\n21+ | 10pm-2am | $5\n411: www.p-r-o-p-s.com\n\nCalling all r
 obots, replicants, b-boys and b-girls. For one night only on All Hallo
 w’s Eve, the Mothership lands in the city by the Bay. You have been 
 selected to take part in the FUTURE SHOCK experience: A Ghetto Futuris
 tic Psychedelic Electronic Erotic Dance Party that will make you do th
 e Hustle, the Robot and the Percolator.\n\nSpace is the place. In Spac
 e, there are no boundaries. There will be no boundaries to the music w
 e play. One nation under a groove of Soul, Jazz, Disco, New Wave, Elec
 tro, Boogie, Rap and House. We will take you on the Trans-Europe Expre
 ss to Afrika Bambaataa, around the rings of Saturn and back again. It 
 will take a nation of millions to hold your ass back from gettin’ do
 wn. Spaced out. Bugged out. Dubbed out. All in?\n\nSTARRING\nFREDDY AN
 ZURES (props/waxpoetics)\nJASON JENKINS (suamor80)\nSTEFEN BELAVY (tec
 hnosoul)\nand\nMARKY ENRIQUEZ (massive selector) as PROOF\n\nSOUND\nDI
 SCO, FUNK, HIP-HOP, TROPICAL, FUTURE SOUNDS & OTHER PARTY MUSIC\n\nVIS
 ION\nA props Production in Technosoul®\n\nLISTEN\nwhat is FUTURE SHOC
 K? get a taste on propsRadio featuring a dope mix by DJ MONK-ONE on ww
 w.p-r-o-p-s.com\n\nFor more information visit https://trueskool.com/ev
 ents/future-shock
DTSTART;TZID=America/Los_Angeles:20091030T210000
DTEND;TZID=America/Los_Angeles:20091031T020000
CATEGORIES:disco, funk, hip-hop, tropical, future, sounds, "&", other,
  party, music
LOCATION:madrone lounge, san francisco
WEBSITE:
URL:
CONTACT:
ORGANIZER:massive selector + propsRadio
ATTACH;FMTTYPE="image/jpeg":http://storage.ning.com/topology/rest/1.0/
 file/get/2247869091?profile=original
ATTENDEE;ROLE=REQ-PARTICIPANT;PARTSTAT=ACCEPTED;RSVP=TRUE;CN=marky:htt
 ps://trueskool.com/profile/marky
END:VEVENT
END:VCALENDAR
