BEGIN:VCALENDAR
PRODID:NingEventWidget-v1
VERSION:2.0
METHOD:PUBLISH
BEGIN:VTIMEZONE
TZID:America/Los_Angeles
X-LIC-LOCATION:America/Los_Angeles
BEGIN:DAYLIGHT
TZOFFSETFROM:-0800
TZOFFSETTO:-0700
TZNAME:PDT
DTSTART:19700308T020000
RRULE:FREQ=YEARLY;BYMONTH=3;BYDAY=2SU
END:DAYLIGHT
BEGIN:STANDARD
TZOFFSETFROM:-0700
TZOFFSETTO:-0800
TZNAME:PST
DTSTART:19701101T020000
RRULE:FREQ=YEARLY;BYMONTH=11;BYDAY=1SU
END:STANDARD
END:VTIMEZONE
BEGIN:VEVENT
UID:1464587:Event:155754
DTSTAMP:20260421T181549Z
SUMMARY:Future Funk: Will Magid Trio / Izzy*Wise / Matiana & special g
 uests
DESCRIPTION: WILL MAGID TRIO (Extended Set)W/ Paul Oliphant/ Imanuel 
 Junaedy +Special Guests ZIEK MCCARTER + DAVE RIDNELL Future Funk | E
 lectro Soul \"Will Magid has found the sweet spot.\" - Darek Mazzone 
 (KEXP) \"A golden touch. Something special I don't see that often\" - 
 Jeremy Sole (KCRW - IZZY*WISE (Extended Set) Global Bass | Future Ro
 ots | Celebrating his new release \"Stone Soup\" With Special guests
 : MC RAI + PETER JAQUES (Brass Menazeri, Beats Antique)- MATIANA (DJ +
  FX + VIOLA): Feat. MATT HAZE + TATIANA ECOIFFIER (Debut Performance!
 )\n\nFor more information visit https://trueskool.com/events/future-fu
 nk-will-magid-trio-izzy-wise-matiana-special-guests-1
DTSTART;TZID=America/Los_Angeles:20130112T210000
DTEND;TZID=America/Los_Angeles:20130113T010000
CATEGORIES:"san francisco", ca
LOCATION:Cafe Du Nord
WEBSITE:http://www.ticketweb.com/t3/sale/SaleEventDetail?dispatch=load
 SelectionData&eventId=3245424
URL:http://www.ticketweb.com/t3/sale/SaleEventDetail?dispatch=loadSele
 ctionData&eventId=3245424
CONTACT:
ORGANIZER:
ATTACH;FMTTYPE="image/jpeg":http://storage.ning.com/topology/rest/1.0/
 file/get/2247931733?profile=original
ATTENDEE;ROLE=REQ-PARTICIPANT;PARTSTAT=ACCEPTED;RSVP=TRUE;CN="Dave Rid
 nell":https://trueskool.com/profile/DaveRidnell
END:VEVENT
END:VCALENDAR
