BEGIN:VCALENDAR
PRODID:NingEventWidget-v1
VERSION:2.0
METHOD:PUBLISH
BEGIN:VTIMEZONE
TZID:America/Los_Angeles
X-LIC-LOCATION:America/Los_Angeles
BEGIN:DAYLIGHT
TZOFFSETFROM:-0800
TZOFFSETTO:-0700
TZNAME:PDT
DTSTART:19700308T020000
RRULE:FREQ=YEARLY;BYMONTH=3;BYDAY=2SU
END:DAYLIGHT
BEGIN:STANDARD
TZOFFSETFROM:-0700
TZOFFSETTO:-0800
TZNAME:PST
DTSTART:19701101T020000
RRULE:FREQ=YEARLY;BYMONTH=11;BYDAY=1SU
END:STANDARD
END:VTIMEZONE
BEGIN:VEVENT
UID:1464587:Event:30232
DTSTAMP:20260421T020140Z
SUMMARY:Funkside
DESCRIPTION:In the Dark Room\n\nRed Wine, Solevibe, Trueskool presents
 \n\nFunkside\n\nFeaturing 40 Love, Ren the Vinyl Archaelogist, Toph On
 e.\n\n$5 b4 11pm.\n\nFor more information visit https://trueskool.com/
 events/funkside-2
DTSTART;TZID=America/Los_Angeles:20090417T220000
DTEND;TZID=America/Los_Angeles:20090418T030000
CATEGORIES:hip, hop, house
LOCATION:Club Six, San Francisco, CA
WEBSITE:
URL:
CONTACT:
ORGANIZER;CN=Cecily:https://trueskool.com/profile/Cecily
ATTACH;FMTTYPE="image/jpeg":http://storage.ning.com/topology/rest/1.0/
 file/get/2247856179?profile=original
ATTENDEE;ROLE=REQ-PARTICIPANT;PARTSTAT=ACCEPTED;RSVP=TRUE;CN=Cecily:ht
 tps://trueskool.com/profile/Cecily
END:VEVENT
END:VCALENDAR
