BEGIN:VCALENDAR
PRODID:NingEventWidget-v1
VERSION:2.0
METHOD:PUBLISH
BEGIN:VTIMEZONE
TZID:America/Los_Angeles
X-LIC-LOCATION:America/Los_Angeles
BEGIN:DAYLIGHT
TZOFFSETFROM:-0800
TZOFFSETTO:-0700
TZNAME:PDT
DTSTART:19700308T020000
RRULE:FREQ=YEARLY;BYMONTH=3;BYDAY=2SU
END:DAYLIGHT
BEGIN:STANDARD
TZOFFSETFROM:-0700
TZOFFSETTO:-0800
TZNAME:PST
DTSTART:19701101T020000
RRULE:FREQ=YEARLY;BYMONTH=11;BYDAY=1SU
END:STANDARD
END:VTIMEZONE
BEGIN:VEVENT
UID:1464587:Event:473034
DTSTAMP:20260421T003854Z
SUMMARY:Funkology (The Funk: Past, Present & Future) feat. Ren the Vin
 yl Archaeologist
DESCRIPTION:\nFRIDAY NOV 28 True Skool presents\nFunkology\nThe Funk: 
 Past, Present & Future\n\nFeaturing: Ren the Vinyl Archaeologist (True
  Skool)\nspinning 360 degrees of pure funk\n\n@ Pop's Bar, 2800 24th S
 t., SF 21+, 10pm-2am, No cover\nMore info: www.trueskool.com\n \n\nBr
 eakin Away by Ren The Vinyl Archaeologist on Mixcloud\n\n\nFor more in
 formation visit https://trueskool.com/events/funkology-the-funk-past-p
 resent-future-feat-ren-the-vinyl-archaeo
DTSTART;TZID=America/Los_Angeles:20141128T220000
DTEND;TZID=America/Los_Angeles:20141129T020000
CATEGORIES:"bay area", "san francisco"
LOCATION:Pop's Bar, San Francisco
WEBSITE:https://www.facebook.com/events/312860555575004
URL:https://www.facebook.com/events/312860555575004
CONTACT:
ORGANIZER:True Skool
ATTACH;FMTTYPE="image/jpeg":http://storage.ning.com/topology/rest/1.0/
 file/get/2247970536?profile=original
ATTENDEE;ROLE=REQ-PARTICIPANT;PARTSTAT=ACCEPTED;RSVP=TRUE;CN="Editor's
  Pick":https://trueskool.com/profile/RentheVinylArchaeologist
ATTENDEE;ROLE=REQ-PARTICIPANT;PARTSTAT=ACCEPTED;RSVP=TRUE;CN="John Ngu
 yen":https://trueskool.com/profile/JohnNguyen
END:VEVENT
END:VCALENDAR
