BEGIN:VCALENDAR
PRODID:NingEventWidget-v1
VERSION:2.0
METHOD:PUBLISH
BEGIN:VTIMEZONE
TZID:America/Los_Angeles
X-LIC-LOCATION:America/Los_Angeles
BEGIN:DAYLIGHT
TZOFFSETFROM:-0800
TZOFFSETTO:-0700
TZNAME:PDT
DTSTART:19700308T020000
RRULE:FREQ=YEARLY;BYMONTH=3;BYDAY=2SU
END:DAYLIGHT
BEGIN:STANDARD
TZOFFSETFROM:-0700
TZOFFSETTO:-0800
TZNAME:PST
DTSTART:19701101T020000
RRULE:FREQ=YEARLY;BYMONTH=11;BYDAY=1SU
END:STANDARD
END:VTIMEZONE
BEGIN:VEVENT
UID:1464587:Event:41085
DTSTAMP:20260422T060422Z
SUMMARY:Funk Drunk Champion Sound & CakeMIX presents SHIT ROBOT
DESCRIPTION:Funk Drunk Champion Sound & CakeMIX are proud to present M
 arcus Lambkin, aka SHIT ROBOT (dfa records).\n\nMarcus is best known f
 or his affiliation with DFA records. Marcus linked up with James Murph
 y (LCD Soundsystem/DFA) coincidently at Plant Records in NYC. James an
 d Marcus started throwing the \"Plant Party\". Plant parties continued
  for many years in many different venues around NYC, culminating in th
 e boys opening their own venue, Plant Bar.\n\nWith the help of Plant B
 ar’s stellar, James Murphy designed, DFA sound system and the likes 
 of Luke Jenner of the Rapture bartending, plant bar became an East Vil
 lage staple and a became a must stop by for any visiting DJ’s. Londo
 n’s Face magazine called it “New York’s coolest and loudest bar
  and everybody from Norman Cook (Fat Boy Slim), Ad Rock (The Beastie
  Boys), Germany’s DJ Koze, Felix The Housecat (an afterhours regular
 ) and many more stopped by and played some records to an enthusiastic,
  well lubricated crowd.\n\nIt was also at Plant Bar that the Shit Robo
 t party started with Marcus and James at the helm. This was a party wh
 ere you could hear the Stooges and Can next to altern8 and nexus21. It
  was not a regular party, but somehow, the name stuck.\n\nMarcus has s
 ince been working on his debut album for DFA, which will be released l
 ater this year and continues to tour the U.S and Europe. His latest tr
 ack \"Simple Things (Work It Out)\" made quite a splash when it came o
 ut in July.\n\nSupporting will be Drunk Funk Champion Sound residents 
 Tal M. Klein and Chardmo who promise not to behave themselves. Tal's h
 ad a busy release schedule this year, with his latest EP, a collaborat
 ive project with Anthony Mansfield and The Hardway Brothers called \"M
 agical Horses\" coming out on Aniligital Music in November.They'll be 
 championing some heavy space disco and funk for your trunk.\n\nTo list
 en and read more on SHIT ROBOT checkout his feature online at xlr8r ma
 gazine.\nhttp://www.xlr8r.com/podcast/2009/07/shit-robots-simply-shit-
 mix\n\n\nDOORS at 10PM\n$5 before 11PM, $10 After\n\nPARADISE LOUNGE\n
 1501 Folsom St.\nSan Francisco, CA\n94103\n\nFor more information visi
 t https://trueskool.com/events/funk-drunk-champion-sound
DTSTART;TZID=America/Los_Angeles:20091009T220000
DTEND;TZID=America/Los_Angeles:20091010T020000
CATEGORIES:disco, hipster, electro
LOCATION:Paradise Lounge, San Francisco, CA
WEBSITE:http://www.paradiseloungesf.com
URL:http://www.paradiseloungesf.com
CONTACT:
ORGANIZER;CN="Carey Kopp":https://trueskool.com/profile/k85
ATTACH;FMTTYPE="image/jpeg":http://storage.ning.com/topology/rest/1.0/
 file/get/2247866970?profile=original
ATTENDEE;ROLE=REQ-PARTICIPANT;PARTSTAT=ACCEPTED;RSVP=TRUE;CN="Carey Ko
 pp":https://trueskool.com/profile/k85
END:VEVENT
END:VCALENDAR
