BEGIN:VCALENDAR
PRODID:NingEventWidget-v1
VERSION:2.0
METHOD:PUBLISH
BEGIN:VTIMEZONE
TZID:America/Los_Angeles
X-LIC-LOCATION:America/Los_Angeles
BEGIN:DAYLIGHT
TZOFFSETFROM:-0800
TZOFFSETTO:-0700
TZNAME:PDT
DTSTART:19700308T020000
RRULE:FREQ=YEARLY;BYMONTH=3;BYDAY=2SU
END:DAYLIGHT
BEGIN:STANDARD
TZOFFSETFROM:-0700
TZOFFSETTO:-0800
TZNAME:PST
DTSTART:19701101T020000
RRULE:FREQ=YEARLY;BYMONTH=11;BYDAY=1SU
END:STANDARD
END:VTIMEZONE
BEGIN:VEVENT
UID:1464587:Event:55877
DTSTAMP:20260421T033458Z
SUMMARY:FUCK FAME w/DJ Quest, BCause and Lady Fingaz hosted by TOAST
DESCRIPTION:FUCK FAME a new monthly at The Showdown in San Francisco w
 ere we just don't give a fuck what you think.\n\n\nFRIDAY MAY 7th\n\nT
 his night we'll be kicking off the first night of 'Fuck Fame' with a b
 ig \"fuck you\" to DJ Pony P and Z-Man. Nah, just playing. We're givin
 g major love this night as we celebrate the birthday of DJ Pony P aka.
  Mercy and also be partying through the night as we mourn the loss of 
 \"N*gga Sh*t\", Z-man and Bicasso's art show currently on display at L
 ower Haters until May 7th.\n\nDJ Quest (Scratch Hampsters)\nhttp://djq
 uest.com/index.php?page=biography\n\nDJ BCause (4oneFunk)\nhttp://www.
 4onefunk.com\n\nw/special guests T.B.A.\n\n\nHosted by: TOAST (Erika B
 . & Rachael VonCookie)\nhttp://www.myspace.com/toastyhos\n\n\nGANGSTER
  RAP, HEAVY METAL, BREAKS, FUNK, BOOTY BASS, HIP HOP, ELECTRO, POP, PU
 NK...WE DON'T GIVE A FUCK!\n\n\nFREE SHOTS FROM 12-1!!!!!!\n\nFor more
  information visit https://trueskool.com/events/fuck-fame-wdj-quest-bc
 ause-and
DTSTART;TZID=America/Los_Angeles:20100507T220000
DTEND;TZID=America/Los_Angeles:20100508T020000
CATEGORIES:hip, hop, funk, breaks, house, death, metal, booty, bass, t
 rina, adina, howard, "r&b"
LOCATION:The Showdown
WEBSITE:http://www.facebook.com/event.php?eid=102733556438156&ref=ts
URL:http://www.facebook.com/event.php?eid=102733556438156&ref=ts
CONTACT:
ORGANIZER;CN="Traci P":https://trueskool.com/profile/TraciP
ATTACH;FMTTYPE="image/jpeg":http://storage.ning.com/topology/rest/1.0/
 file/get/2247877245?profile=original
ATTENDEE;ROLE=REQ-PARTICIPANT;PARTSTAT=ACCEPTED;RSVP=TRUE;CN="Traci P"
 :https://trueskool.com/profile/TraciP
END:VEVENT
END:VCALENDAR
