BEGIN:VCALENDAR
PRODID:NingEventWidget-v1
VERSION:2.0
METHOD:PUBLISH
BEGIN:VTIMEZONE
TZID:America/Los_Angeles
X-LIC-LOCATION:America/Los_Angeles
BEGIN:DAYLIGHT
TZOFFSETFROM:-0800
TZOFFSETTO:-0700
TZNAME:PDT
DTSTART:19700308T020000
RRULE:FREQ=YEARLY;BYMONTH=3;BYDAY=2SU
END:DAYLIGHT
BEGIN:STANDARD
TZOFFSETFROM:-0700
TZOFFSETTO:-0800
TZNAME:PST
DTSTART:19701101T020000
RRULE:FREQ=YEARLY;BYMONTH=11;BYDAY=1SU
END:STANDARD
END:VTIMEZONE
BEGIN:VEVENT
UID:1464587:Event:42224
DTSTAMP:20260421T111926Z
SUMMARY:Fright Night feat. Sila & Afrofunk Experience & Ren the Vinyl 
 Archaeologist
DESCRIPTION:\nMaisha Productions present\nFright Night\nPut on your sc
 ariest and sexiest oufits and join us for a night of mayhem\n\nFeaturi
 ng the Afrobeat/Afrofunk sounds of\nSila and the Afrofunk Expeirence\n
 \nthe hot belly dance troupe\nFoxglove Sweethearts (featuring Jill Par
 ker)\n\nand Dj Ren the Vinyl Archeologist (True Skool).\n\nPrizes for 
 the sexiest, scariest, craziest costume.\n\nWhen: Saturday, October 31
 , 10pm\nWhere: Cafe Du Nord, 2174 Market St. SF\nTickets: $15 avaiable
  at http://cafedunord.com\n\n \n \n\n\n\nFor more information visit ht
 tps://trueskool.com/events/fright-night-feat-sila
DTSTART;TZID=America/Los_Angeles:20091031T220000
DTEND;TZID=America/Los_Angeles:20091101T020000
CATEGORIES:afro, funk
LOCATION:Cafe Du Nord, SF
WEBSITE:http://cafedunord.com
URL:http://cafedunord.com
CONTACT:
ORGANIZER:Maisha Productions
ATTACH;FMTTYPE="image/jpeg":http://storage.ning.com/topology/rest/1.0/
 file/get/2247874166?profile=original
ATTENDEE;ROLE=REQ-PARTICIPANT;PARTSTAT=ACCEPTED;RSVP=TRUE;CN="Ren the 
 Vinyl Archaeologist":https://trueskool.com/profile/xh51jvilojur
END:VEVENT
END:VCALENDAR
