BEGIN:VCALENDAR
PRODID:NingEventWidget-v1
VERSION:2.0
METHOD:PUBLISH
BEGIN:VTIMEZONE
TZID:America/Los_Angeles
X-LIC-LOCATION:America/Los_Angeles
BEGIN:DAYLIGHT
TZOFFSETFROM:-0800
TZOFFSETTO:-0700
TZNAME:PDT
DTSTART:19700308T020000
RRULE:FREQ=YEARLY;BYMONTH=3;BYDAY=2SU
END:DAYLIGHT
BEGIN:STANDARD
TZOFFSETFROM:-0700
TZOFFSETTO:-0800
TZNAME:PST
DTSTART:19701101T020000
RRULE:FREQ=YEARLY;BYMONTH=11;BYDAY=1SU
END:STANDARD
END:VTIMEZONE
BEGIN:VEVENT
UID:1464587:Event:37422
DTSTAMP:20260420T225129Z
SUMMARY:FRIDAY SEPT 4TH:::SAN QUINN, RANKIN SCROO & DJ APOLLO
DESCRIPTION:\n----------------------------------\nRIDAY SEPT 4TH:\nREG
 GAE MEETS HIP-HOP\nSAN QUINN, RANKIN SCROO & DJ APOLLO\nalongside:\nMO
 OCH DA PLAYER\nSMOKE-1\nYOUNG FYAH\n----------------------\n*$15 advan
 ce tickets available at TICKETWEB.COM or the venue during operating ho
 urs\nCLICK HERE FOR DISCOUNT TIX:\nhttp://www.ticketweb.com/t3/sale/Sa
 leEventDetail?dispatch=loadSelectionData&eventId=2343804\n------------
 ----------\n*DRESS CODE STRICTLY ENFORCE:no oversized white T's, no GR
 ILLZ, you get the point...\n--------------------------------\n--------
 --------------------------\n \n---------------------------------------
 --------\n\n\nFor more information visit https://trueskool.com/events/
 friday-sept-4thsan-quinn
DTSTART;TZID=America/Los_Angeles:20090904T210000
DTEND;TZID=America/Los_Angeles:20090905T020000
CATEGORIES:reggae, meets, hip-hop
LOCATION:Shattuck downlow lounge
WEBSITE:http://www.shattuckdownlow.com
URL:http://www.shattuckdownlow.com
CONTACT:510-548-1159
ORGANIZER;CN=SMOKE-1:https://trueskool.com/profile/SMOKE1
ATTACH;FMTTYPE="image/jpeg":http://storage.ning.com/topology/rest/1.0/
 file/get/2106896389?profile=original
ATTENDEE;ROLE=REQ-PARTICIPANT;PARTSTAT=ACCEPTED;RSVP=TRUE;CN=SMOKE-1:h
 ttps://trueskool.com/profile/SMOKE1
END:VEVENT
END:VCALENDAR
