BEGIN:VCALENDAR
PRODID:NingEventWidget-v1
VERSION:2.0
METHOD:PUBLISH
BEGIN:VTIMEZONE
TZID:America/Los_Angeles
X-LIC-LOCATION:America/Los_Angeles
BEGIN:DAYLIGHT
TZOFFSETFROM:-0800
TZOFFSETTO:-0700
TZNAME:PDT
DTSTART:19700308T020000
RRULE:FREQ=YEARLY;BYMONTH=3;BYDAY=2SU
END:DAYLIGHT
BEGIN:STANDARD
TZOFFSETFROM:-0700
TZOFFSETTO:-0800
TZNAME:PST
DTSTART:19701101T020000
RRULE:FREQ=YEARLY;BYMONTH=11;BYDAY=1SU
END:STANDARD
END:VTIMEZONE
BEGIN:VEVENT
UID:1464587:Event:69970
DTSTAMP:20260420T145354Z
SUMMARY:Friday Happy Hour @ Coda w/ DJ Deevice (GridLock/Pirate Cat Ra
 dio/Me+You)
DESCRIPTION:Happy Hour With DJ Deevice (GridLock / Pirate Cat Radio / 
 Me+You)\n\nEvery Friday\nFREE / 6 PM - 8:30 PM\n\n$5 Bites and drink s
 pecials!!\n\nDeevice brings top notch selection and skill to our happy
  hour. Soul, funk, Jazz, hip hop, future jazz and beyond set you up fo
 r the evening to come! Enjoy one of our specialty cocktails and try so
 me of our $5 bites menu, dishes hand picked for our happy hour. Drink 
 specials will be available as well.\n\nAbout Deevice:\nSince moving to
  SF, Deevice has played an integral role in the Bay Area music scene p
 erforming alongside the likes of DJ AM, Spinna, RJD2, Derrick May, Dar
 ren Emerson, Mark Farina, J Boogie and others. DJ Deevice is a contrib
 uting writer for Big Up Magazine and the host of the \"Best of the Bay
  2010\" award winning radio show \"GridLock\" which broadcasts every T
 hursday 12pm-2pm on Pirate Cat Radio.\n\nhttp://thebigupmagazine.com/\
 nhttp://www.piratecatradio.com/\n\n\nDon't forget to check out our ful
 l menu and stick around for the show.\n\nwww.codalive.com\n\nFor more 
 information visit https://trueskool.com/events/friday-happy-hour-coda-
 w-dj
DTSTART;TZID=America/Los_Angeles:20101112T180000
DTEND;TZID=America/Los_Angeles:20101112T203000
CATEGORIES:san, francisco
LOCATION:Coda, San Francisco, CA
WEBSITE:
URL:
CONTACT:
ORGANIZER:DJ Deevice
ATTACH;FMTTYPE="image/jpeg":http://storage.ning.com/topology/rest/1.0/
 file/get/2247885788?profile=original
ATTENDEE;ROLE=REQ-PARTICIPANT;PARTSTAT=ACCEPTED;RSVP=TRUE;CN="Martin C
 ollins":https://trueskool.com/profile/MartinCollins
END:VEVENT
END:VCALENDAR
