BEGIN:VCALENDAR
PRODID:NingEventWidget-v1
VERSION:2.0
METHOD:PUBLISH
BEGIN:VTIMEZONE
TZID:America/Los_Angeles
X-LIC-LOCATION:America/Los_Angeles
BEGIN:DAYLIGHT
TZOFFSETFROM:-0800
TZOFFSETTO:-0700
TZNAME:PDT
DTSTART:19700308T020000
RRULE:FREQ=YEARLY;BYMONTH=3;BYDAY=2SU
END:DAYLIGHT
BEGIN:STANDARD
TZOFFSETFROM:-0700
TZOFFSETTO:-0800
TZNAME:PST
DTSTART:19701101T020000
RRULE:FREQ=YEARLY;BYMONTH=11;BYDAY=1SU
END:STANDARD
END:VTIMEZONE
BEGIN:VEVENT
UID:1464587:Event:70819
DTSTAMP:20260420T144834Z
SUMMARY:Freshen Up
DESCRIPTION:Thursday Nov 18th Freshen Up @ Club Six With Fist Family, 
 Hugh EMC, Grand Invincible. Hosted By Flossafee. $10\n\nFor more infor
 mation visit https://trueskool.com/events/freshen-up
DTSTART;TZID=America/Los_Angeles:20101118T220000
DTEND;TZID=America/Los_Angeles:20101119T020000
CATEGORIES:sanfrancisco
LOCATION:Club Six  San Francisco, Ca
WEBSITE:http://www.clubsix1.com
URL:http://www.clubsix1.com
CONTACT:415-863-1221
ORGANIZER;CN=Cecily:https://trueskool.com/profile/Cecily
ATTACH;FMTTYPE="image/jpeg":
ATTENDEE;ROLE=REQ-PARTICIPANT;PARTSTAT=ACCEPTED;RSVP=TRUE;CN=Cecily:ht
 tps://trueskool.com/profile/Cecily
END:VEVENT
END:VCALENDAR
