BEGIN:VCALENDAR
PRODID:NingEventWidget-v1
VERSION:2.0
METHOD:PUBLISH
BEGIN:VTIMEZONE
TZID:America/Los_Angeles
X-LIC-LOCATION:America/Los_Angeles
BEGIN:DAYLIGHT
TZOFFSETFROM:-0800
TZOFFSETTO:-0700
TZNAME:PDT
DTSTART:19700308T020000
RRULE:FREQ=YEARLY;BYMONTH=3;BYDAY=2SU
END:DAYLIGHT
BEGIN:STANDARD
TZOFFSETFROM:-0700
TZOFFSETTO:-0800
TZNAME:PST
DTSTART:19701101T020000
RRULE:FREQ=YEARLY;BYMONTH=11;BYDAY=1SU
END:STANDARD
END:VTIMEZONE
BEGIN:VEVENT
UID:1464587:Event:31070
DTSTAMP:20260420T230102Z
SUMMARY:Fresh Steps
DESCRIPTION:Join us this month as we take you higher. With artists of 
 high grade caliber, and a crowd that never breaks the cypher you know 
 we're gonna leave you loaded.\n\nThe Lineup:\nBrotha Beejus\nwww.myspa
 ce.com/brothabeejus\n\nUnity ft. The Genie\nmyspace.com/unityakayoungp
 recise\nwww.canyoumakechange.com\nwww.myspace.com/thegeniemusic\n\nDo 
 Dat\nwww.myspace.com/datamen\n\nall backed by the band Pt. Z'RO featur
 ing Special Guest Artist Sierra Makai and Wise-Proof\nHosted by d.nast
 ee from \"Streets is Talking Radio\"\nDJ aebldee in the mix\nPresented
  by Supreme Aebilities, Fuxwitit Ent, and Revolution-Is-Now.com\n\nDri
 nk specials after 10p bottles of wine are always 50% off on Sundays!\n
 \n21= w/ID, Dinner at 8, Doors at 9, show starts at 9:50\nApril 19th @
  Lukas Taproom 2221 Broadway Oakland, CA 94617\n\nFor more information
  visit https://trueskool.com/events/fresh-steps
DTSTART;TZID=America/Los_Angeles:20090419T210000
DTEND;TZID=America/Los_Angeles:20090420T013000
CATEGORIES:hip-hop, "r&b", funk, "showcase/perfomance", "w/", live, mu
 sic
LOCATION:Lukas Taproom
WEBSITE:http://www.lukasoakland.com
URL:http://www.lukasoakland.com
CONTACT:510-712-5111
ORGANIZER:Fuxwitit Ent and Supreme Abilities
ATTACH;FMTTYPE="image/jpeg":http://storage.ning.com/topology/rest/1.0/
 file/get/2247856331?profile=original
ATTENDEE;ROLE=REQ-PARTICIPANT;PARTSTAT=ACCEPTED;RSVP=TRUE;CN=Ahkrash:h
 ttps://trueskool.com/profile/fuxwititent
END:VEVENT
END:VCALENDAR
