BEGIN:VCALENDAR
PRODID:NingEventWidget-v1
VERSION:2.0
METHOD:PUBLISH
BEGIN:VTIMEZONE
TZID:America/Los_Angeles
X-LIC-LOCATION:America/Los_Angeles
BEGIN:DAYLIGHT
TZOFFSETFROM:-0800
TZOFFSETTO:-0700
TZNAME:PDT
DTSTART:19700308T020000
RRULE:FREQ=YEARLY;BYMONTH=3;BYDAY=2SU
END:DAYLIGHT
BEGIN:STANDARD
TZOFFSETFROM:-0700
TZOFFSETTO:-0800
TZNAME:PST
DTSTART:19701101T020000
RRULE:FREQ=YEARLY;BYMONTH=11;BYDAY=1SU
END:STANDARD
END:VTIMEZONE
BEGIN:VEVENT
UID:1464587:Event:32860
DTSTAMP:20260421T035817Z
SUMMARY:Fresh (New Music From Emerging Artists) feat. One Be Lo, Keela
 y & Zaire, Mic Crenshaw, Toni Hill, D-Labrie, Knox Fam...
DESCRIPTION:\n\nFRIDAY, JUNE 5\nTrue Skool presents\nFresh (New Music 
 From Emerging Artists)\nDope Emporium Tour Edition\n\nFeaturing:\nOne 
 Be Lo (Binary Star, Detroit Michigan)\nKeelay & Zaire (Myx.TV)\nD Labr
 ie\nMykill Miers\nKnox Fam\nToni Hill\nMic Crenshaw\n\nw/ DJs Ren the 
 Vinyl Archaeologist, Franky Fresh & Nikka T\n\n@ ELBO ROOM, 647 Valenc
 ia St, San Francisco, CA\n21+ w/ ID; 9p – 2a; $8 adv, $10 door\nINFO
  & TIX: www.trueskool.com\n\nDETAILS\nFriday June 5, 2009 marks the re
 turn of True Skool’s FRESH: New Music From Emerging Artists, a showc
 ase of up and coming Hip Hop Artists at the Elbo Room, SF. In associat
 ion with Inhouse Talent and Hip Hop Congress, The Dope Emporium Tour E
 dition kicks off the series’ renewal with a nation-spanning lineup f
 eaturing One Be Lo, Keelay & Zaire, D Labrie, Mykill Miers, The Knox F
 amily, Toni Hill, and Mic Crenshaw with DJs Ren the Vinyl Archaeologis
 t, Franky Fresh, Nikka T. The showcase will be hosted by Hip Hop Congr
 ess’ Shamako Noble and Rahman Jamaal and will be preceded by an open
  mic.\n\nAs a constant supporter of hip hop culture, local artists and
  independent music, True Skool has become a foundation in Bay Area Hip
  Hop. Founded in 1999 by Ren Salgado, aka Ren the Vinyl Archaeologist,
  True Skool believes it is important to know where hip-hop comes from 
 and the connection to other genres of music. The website/on-line magaz
 ine (www.true-skool.org) is a tribute to the preservation of hip-hop a
 nd funk. With local event listings, artist biographies, politics, musi
 c, internet radio, a vast social network, and music history, the websi
 te is a holistic source of information about the Bay Area hip-hop scen
 e and its influences.\n\nFor more information visit https://trueskool.
 com/events/fresh-new-music-from-emerging
DTSTART;TZID=America/Los_Angeles:20090605T220000
DTEND;TZID=America/Los_Angeles:20090606T020000
CATEGORIES:hip, hop, soul, funk, "r&b", reggae
LOCATION:Elbo Room, San Francisco, CA
WEBSITE:http://www.elbo.com
URL:http://www.elbo.com
CONTACT:
ORGANIZER:True Skool in association with In House Talent & Hip Hop Con
 gress
ATTACH;FMTTYPE="image/jpeg":http://storage.ning.com/topology/rest/1.0/
 file/get/2068657261?profile=original
ATTENDEE;ROLE=REQ-PARTICIPANT;PARTSTAT=ACCEPTED;RSVP=TRUE;CN="Ren the 
 Vinyl Archaeologist":https://trueskool.com/profile/xh51jvilojur
END:VEVENT
END:VCALENDAR
