BEGIN:VCALENDAR
PRODID:NingEventWidget-v1
VERSION:2.0
METHOD:PUBLISH
BEGIN:VTIMEZONE
TZID:America/Los_Angeles
X-LIC-LOCATION:America/Los_Angeles
BEGIN:DAYLIGHT
TZOFFSETFROM:-0800
TZOFFSETTO:-0700
TZNAME:PDT
DTSTART:19700308T020000
RRULE:FREQ=YEARLY;BYMONTH=3;BYDAY=2SU
END:DAYLIGHT
BEGIN:STANDARD
TZOFFSETFROM:-0700
TZOFFSETTO:-0800
TZNAME:PST
DTSTART:19701101T020000
RRULE:FREQ=YEARLY;BYMONTH=11;BYDAY=1SU
END:STANDARD
END:VTIMEZONE
BEGIN:VEVENT
UID:1464587:Event:63701
DTSTAMP:20260420T230206Z
SUMMARY:Fresh Fest 2010
DESCRIPTION:Saturday August 14th\nFresh Fest 2010\nSolar Powered Conce
 rt\n\nsolar powered dj set by Pete Rock\nlive performances by Erk the 
 Jerk, Holly Saucy, DO D.A.T, Nu Dekades, Seasunz, O-zone and more\nhos
 ted by Boots Riley from the Coupplus youth hip-hop competition, farmer
 s market, food court, health screenings & kids zone\n\nMosswood Park\n
 West MacArthur Blvd b/w Webster St & Broadway | Oakland\nFree\n\nFaceb
 ook\nhttp://www.facebook.com/profile.php?id=100000625302920\nSome pres
 s\nhttp://tinyurl.com/2c9exf6\nPreview podcast\nhttp://tinyurl.com/24o
 lx6y\n\nFor more information visit https://trueskool.com/events/fresh-
 fest-2010
DTSTART;TZID=America/Los_Angeles:20100814T120000
DTEND;TZID=America/Los_Angeles:20100814T180000
CATEGORIES:oakland, ca
LOCATION:Mosswood Park, Oakland, CA
WEBSITE:http://www.facebook.com/#!/event.php?eid=141602479199170&ref=t
 s
URL:http://www.facebook.com/#!/event.php?eid=141602479199170&ref=ts
CONTACT:
ORGANIZER;CN="Ren the Vinyl Archaeologist":https://trueskool.com/profi
 le/xh51jvilojur
ATTACH;FMTTYPE="image/jpeg":http://storage.ning.com/topology/rest/1.0/
 file/get/2247883281?profile=original
ATTENDEE;ROLE=REQ-PARTICIPANT;PARTSTAT=ACCEPTED;RSVP=TRUE;CN="Ren the 
 Vinyl Archaeologist":https://trueskool.com/profile/xh51jvilojur
END:VEVENT
END:VCALENDAR
