BEGIN:VCALENDAR
PRODID:NingEventWidget-v1
VERSION:2.0
METHOD:PUBLISH
BEGIN:VTIMEZONE
TZID:America/Los_Angeles
X-LIC-LOCATION:America/Los_Angeles
BEGIN:DAYLIGHT
TZOFFSETFROM:-0800
TZOFFSETTO:-0700
TZNAME:PDT
DTSTART:19700308T020000
RRULE:FREQ=YEARLY;BYMONTH=3;BYDAY=2SU
END:DAYLIGHT
BEGIN:STANDARD
TZOFFSETFROM:-0700
TZOFFSETTO:-0800
TZNAME:PST
DTSTART:19701101T020000
RRULE:FREQ=YEARLY;BYMONTH=11;BYDAY=1SU
END:STANDARD
END:VTIMEZONE
BEGIN:VEVENT
UID:1464587:Event:394168
DTSTAMP:20260421T014913Z
SUMMARY:FreeCity & TheMorphLife.com  PRESENTS...  SUMMER HEAT
DESCRIPTION:FreeCity & TheMorphLife.com  PRESENTS...  SUMMER HEAT  A 
 night of dope music featuring DJS Baheemith, Ewock, and special guests
  Popgang.  LIVE PERFORMANCES BY: LIDAH--MISTAH S. TALENT J808 - HUNNY 
 TINTED - JAY LOZAYA\nHOSTED BY WALTER CASTILLO AKA RAKA WALT  SATURDAY
 , JULY 26TH  10PM-2AM\nFREE BEFORE 10:30PM\nhttp://www.storkcluboakla
 nd.com/\nhttps://www.facebook.com/events/1484673088438918/?ref=23\n\nF
 or more information visit https://trueskool.com/events/freecity-themor
 phlife-com-presents-summer-heat
DTSTART;TZID=America/Los_Angeles:20140726T220000
DTEND;TZID=America/Los_Angeles:20140727T020000
CATEGORIES:united, states
LOCATION:THE STORK CLUB, OAKLAND
WEBSITE:https://www.facebook.com/events/1484673088438918/?ref=23
URL:https://www.facebook.com/events/1484673088438918/?ref=23
CONTACT:(510) 444-6174
ORGANIZER:Free City
ATTACH;FMTTYPE="image/jpeg":http://storage.ning.com/topology/rest/1.0/
 file/get/2247967176?profile=original
ATTENDEE;ROLE=REQ-PARTICIPANT;PARTSTAT=ACCEPTED;RSVP=TRUE;CN="Makaela 
 Susnow":https://trueskool.com/profile/MakaelaSusnow
END:VEVENT
END:VCALENDAR
