BEGIN:VCALENDAR
PRODID:NingEventWidget-v1
VERSION:2.0
METHOD:PUBLISH
BEGIN:VTIMEZONE
TZID:America/Los_Angeles
X-LIC-LOCATION:America/Los_Angeles
BEGIN:DAYLIGHT
TZOFFSETFROM:-0800
TZOFFSETTO:-0700
TZNAME:PDT
DTSTART:19700308T020000
RRULE:FREQ=YEARLY;BYMONTH=3;BYDAY=2SU
END:DAYLIGHT
BEGIN:STANDARD
TZOFFSETFROM:-0700
TZOFFSETTO:-0800
TZNAME:PST
DTSTART:19701101T020000
RRULE:FREQ=YEARLY;BYMONTH=11;BYDAY=1SU
END:STANDARD
END:VTIMEZONE
BEGIN:VEVENT
UID:1464587:Event:390894
DTSTAMP:20260421T021211Z
SUMMARY:FreeCity Presents...   Mic-City Tuesday's at Georges
DESCRIPTION:Welcome To Mic-City Tuesday, this is a monthly event for e
 merging artists/DJ's/ producers/emcees and all those who are involved 
 in the entertainment industry and everyone with musical talents to get
  together, perform network and showcase their strengths and shake hand
 s with the hottest local promoters and entertainment companies in the 
 415 area code. Come have a drink dance and enjoy live performances and
  DJ's on the last Tuesday of every month!!!\nHosted by Nicholas Alexan
 der with Performances By:\nJules JonesRaphelle AndrewsKeShay LoveDu Da
 mageWest OneBGMos FinessLyric CaliA-Ron Bacardi83LVRamRock MuzicPandaA
 rze poeticJoy Elán SledgeHAC with Dj Tnt\nFREE ALL NIGHT\n\nFor more 
 information visit https://trueskool.com/events/freecity-presents-mic-c
 ity-tuesday-s-at-georges
DTSTART;TZID=America/Los_Angeles:20140722T200000
DTEND;TZID=America/Los_Angeles:20140723T010000
CATEGORIES:san, francisco, bay, rafael, ca
LOCATION:Georges Nightclub
WEBSITE:
URL:
CONTACT:
ORGANIZER;CN="Makaela Susnow":https://trueskool.com/profile/MakaelaSus
 now
ATTACH;FMTTYPE="image/jpeg":
ATTENDEE;ROLE=REQ-PARTICIPANT;PARTSTAT=ACCEPTED;RSVP=TRUE;CN="Makaela 
 Susnow":https://trueskool.com/profile/MakaelaSusnow
END:VEVENT
END:VCALENDAR
