BEGIN:VCALENDAR
PRODID:NingEventWidget-v1
VERSION:2.0
METHOD:PUBLISH
BEGIN:VTIMEZONE
TZID:America/Los_Angeles
X-LIC-LOCATION:America/Los_Angeles
BEGIN:DAYLIGHT
TZOFFSETFROM:-0800
TZOFFSETTO:-0700
TZNAME:PDT
DTSTART:19700308T020000
RRULE:FREQ=YEARLY;BYMONTH=3;BYDAY=2SU
END:DAYLIGHT
BEGIN:STANDARD
TZOFFSETFROM:-0700
TZOFFSETTO:-0800
TZNAME:PST
DTSTART:19701101T020000
RRULE:FREQ=YEARLY;BYMONTH=11;BYDAY=1SU
END:STANDARD
END:VTIMEZONE
BEGIN:VEVENT
UID:1464587:Event:29779
DTSTAMP:20260421T020352Z
SUMMARY:FREE Youth BBoy BGirl Workshop Hosted by Crazy Legs of Rock St
 eady Crew
DESCRIPTION:The Legendary BBoy Crazy Legs of Rock Steady Crew comes to
  East San Jose to donate his time with the youth and give back to the 
 community. Collaborating with fitness expert and Miss NPC California F
 igure Champion, Mona Liza \"MO\" Reyes to promote physical fitness thr
 ough BBOYING and making healthier eating choices.\n\nFREE Youth BBoy B
 Girl Workshop - donation of (4) canned goods per participant to benefi
 t the Second Harvest Food Bank.\n\nWorkshop for Ages 9 - 13 yrs: 1 - 2
 :30pm\nWorkshop for Ages 14 - 17 yrs: 3:30 - 5pm\n\nPRE-Register at:\n
 http://crazylegsworkshop.com/\nParent or Guardian must be present to s
 ign liability waivers. LIMITED SPACE AVAILABILITY.\n\n***If you are a 
 business or individual that would like to donate or be a part of this 
 event, please contact: monaliza@goteammo.com***\n\nFor more informatio
 n visit https://trueskool.com/events/free-youth-bboy-bgirl-workshop
DTSTART;TZID=America/Los_Angeles:20090418T130000
DTEND;TZID=America/Los_Angeles:20090418T170000
CATEGORIES:free, youth, workshop
LOCATION:Alum Rock Youth Center
WEBSITE:http://crazylegsworkshop.com/
URL:http://crazylegsworkshop.com/
CONTACT:
ORGANIZER;CN="mona liza reyes":https://trueskool.com/profile/monalizar
 eyes
ATTACH;FMTTYPE="image/jpeg":http://storage.ning.com/topology/rest/1.0/
 file/get/2247855461?profile=original
ATTENDEE;ROLE=REQ-PARTICIPANT;PARTSTAT=ACCEPTED;RSVP=TRUE;CN="mona liz
 a reyes":https://trueskool.com/profile/monalizareyes
END:VEVENT
END:VCALENDAR
