BEGIN:VCALENDAR
PRODID:NingEventWidget-v1
VERSION:2.0
METHOD:PUBLISH
BEGIN:VTIMEZONE
TZID:America/Los_Angeles
X-LIC-LOCATION:America/Los_Angeles
BEGIN:DAYLIGHT
TZOFFSETFROM:-0800
TZOFFSETTO:-0700
TZNAME:PDT
DTSTART:19700308T020000
RRULE:FREQ=YEARLY;BYMONTH=3;BYDAY=2SU
END:DAYLIGHT
BEGIN:STANDARD
TZOFFSETFROM:-0700
TZOFFSETTO:-0800
TZNAME:PST
DTSTART:19701101T020000
RRULE:FREQ=YEARLY;BYMONTH=11;BYDAY=1SU
END:STANDARD
END:VTIMEZONE
BEGIN:VEVENT
UID:1464587:Event:69714
DTSTAMP:20260420T132041Z
SUMMARY:FREE! Thursday 11/11: Wax Candy! Disco-Licious Party Jams! FRE
 E!
DESCRIPTION:Wax Candy\n**André Lucero's Birthday!!**\nhttp://www.face
 book.com/event.php?eid=100793226651755\nDisco-Licious Party Jams!\nFRE
 E!FREE!FREE!FREE!FREE!\n\n*Disco*Funk*House*Techno*More*\n\nYour Candy
  Men:\nAndré Lucero (Fiction)\nThe Worker (Fiction)\nTravis Dalton (B
 inary)\nSergio (Go BANG!)\n\nThursday, November 11\n9PM-2AM / FREE / 2
 1+\nAll beers & well $4\nThe Ambassador / 673 Geary Street between Lea
 venworth & Jones\nhttp://www.ambassador415.com/\nEarly Birds: The Amba
 ssador offers a selection of reasonably-priced bar bites from 7p 'til 
 10p. Sliders. Beef skewers. Caesar salad. Tots. Fries. Grilled cheese.
  Etc!\n\nFor more information visit https://trueskool.com/events/free-
 thursday-1111-wax-candy
DTSTART;TZID=America/Los_Angeles:20101111T210000
DTEND;TZID=America/Los_Angeles:20101112T020000
CATEGORIES:the, ambassador
LOCATION:San Francisco, CA
WEBSITE:http://www.ambassador415.com/
URL:http://www.ambassador415.com/
CONTACT:
ORGANIZER;CN=Sergio:https://trueskool.com/profile/Sergio
ATTACH;FMTTYPE="image/jpeg":http://storage.ning.com/topology/rest/1.0/
 file/get/2247885327?profile=original
ATTENDEE;ROLE=REQ-PARTICIPANT;PARTSTAT=ACCEPTED;RSVP=TRUE;CN=Sergio:ht
 tps://trueskool.com/profile/Sergio
END:VEVENT
END:VCALENDAR
