BEGIN:VCALENDAR
PRODID:NingEventWidget-v1
VERSION:2.0
METHOD:PUBLISH
BEGIN:VTIMEZONE
TZID:America/Los_Angeles
X-LIC-LOCATION:America/Los_Angeles
BEGIN:DAYLIGHT
TZOFFSETFROM:-0800
TZOFFSETTO:-0700
TZNAME:PDT
DTSTART:19700308T020000
RRULE:FREQ=YEARLY;BYMONTH=3;BYDAY=2SU
END:DAYLIGHT
BEGIN:STANDARD
TZOFFSETFROM:-0700
TZOFFSETTO:-0800
TZNAME:PST
DTSTART:19701101T020000
RRULE:FREQ=YEARLY;BYMONTH=11;BYDAY=1SU
END:STANDARD
END:VTIMEZONE
BEGIN:VEVENT
UID:1464587:Event:42073
DTSTAMP:20260421T005712Z
SUMMARY:Free: SFGP Goodbye Office Art Auction & Blow-Out Bash!
DESCRIPTION:The SF Green Party is movin' out and movin' on up!\n\nLive
  Entertainment by:\n- Coop D'ville http://www.myspace.com/djcoopdville
 \n- JAH YZER http://www.jahwarriorshelter.com/crew\n- benchun (False P
 rofit) http://benchun.net\n- Daneekah (CooYah) http://www.myspace.com/
 djdaneekah\n- DJJD (False Profit) http://false-profit.com/djs/djjd\n- 
 dj_SpaceInvader http://mk2systems.com/memekast\n-B. Tyler Burton, the 
 Jabberlope http://jabberlope.wordpress.com\n-Leah Brown\n-The Peacenik
 s http://www.myspace.com/peacenikssf\n-Kelly Porter (live painting) ht
 tp://www.squidcannon.com\n\nThe days of constantly scrapping together 
 our pennies and blowing our limited resources on rent for an office we
  don't need are over! Our purpose is to influence local politics and g
 et more people involved. So we've got a new plan to be more accessible
 , efficient and therefore more effective. We'll be holding our meeting
 s in a different neighborhood every month, throwing more social events
  to bring people in, and spending our money on outreach & efforts to i
 nform the public on our endorsements & important political issues in a
  timely manner...\n\nJoin us as we celebrate this new phase of our evo
 lution!\n\nCome celebrate all that we've accomplished over the years, 
 share your thoughts on and lend your support to the new plan. Drink co
 cktails, wine & beer, and bid on some amazing local artwork with a pro
 fessional auctioneer, Antler! Eat rum cake while ranting about politic
 s with local political celebs! Shake your butt with one of the best li
 ne-ups of performers we've ever brought together!\n\nAuctioning Art by
 :\n-Ursula Young http://www.ursulayoung.com\n-Max Kelly http://www.max
 kelly.info\n-Michelle Dubin\n-Julia Russotti\n-Joshua Smith\n-Zachary 
 Paris\n-Toddot\n-Kelly Porter http://www.squidcannon.com\n-Several pol
 itical collector's pieces from the Green archive\n\n**Also bid on a tw
 o hour-long Ayurveda Consultation from Ela Ayurveda which includes a B
 ody Constitution Analysis and Diet & Lifestyle suggestions which integ
 rate body/mind assessment, nutrition, and lifestyle counseling. Bring 
 balance into your body, mind, spirit, and emotions, promote mental hea
 lth & longevity and prevent disease! http://www.ElaAyurveda.com\n\nAll
  ages and political affiliations are welcome. Those still recovering f
 rom drinking too much Obama-lade are especially encouraged to attend!\
 n\n\n\nThis one is not to be missed!\n\n\n\nNO COVER!\n\n\n\n1028 Howa
 rd St, between 6th & 7th St, 3 blocks from Civic Center BART\nTuesday,
  October 27; 6 PM till late\n\nhttp://www.facebook.com/event.php?eid=1
 56848875822\n\nFor more information visit https://trueskool.com/events
 /free-sfgp-goodbye-office-art
DTSTART;TZID=America/Los_Angeles:20091027T180000
DTEND;TZID=America/Los_Angeles:20091028T010000
CATEGORIES:"free!", hyphy, dancehall, reggae, glitch, hip-hop, crunk, 
 art-auction
LOCATION:SFGP Former Headquarters
WEBSITE:http://www.sfgreenparty.org/events/events-itemfromhome.gem?idx
 =1916
URL:http://www.sfgreenparty.org/events/events-itemfromhome.gem?idx=191
 6
CONTACT:
ORGANIZER:SF Green Party
ATTACH;FMTTYPE="image/jpeg":http://storage.ning.com/topology/rest/1.0/
 file/get/2247869011?profile=original
ATTENDEE;ROLE=REQ-PARTICIPANT;PARTSTAT=ACCEPTED;RSVP=TRUE;CN="Paul Pla
 tt":https://trueskool.com/profile/PaulPlatt
END:VEVENT
END:VCALENDAR
