BEGIN:VCALENDAR
PRODID:NingEventWidget-v1
VERSION:2.0
METHOD:PUBLISH
BEGIN:VTIMEZONE
TZID:America/Los_Angeles
X-LIC-LOCATION:America/Los_Angeles
BEGIN:DAYLIGHT
TZOFFSETFROM:-0800
TZOFFSETTO:-0700
TZNAME:PDT
DTSTART:19700308T020000
RRULE:FREQ=YEARLY;BYMONTH=3;BYDAY=2SU
END:DAYLIGHT
BEGIN:STANDARD
TZOFFSETFROM:-0700
TZOFFSETTO:-0800
TZNAME:PST
DTSTART:19701101T020000
RRULE:FREQ=YEARLY;BYMONTH=11;BYDAY=1SU
END:STANDARD
END:VTIMEZONE
BEGIN:VEVENT
UID:1464587:Event:322448
DTSTAMP:20260421T052702Z
SUMMARY:Free Janelle Monáe Concert In Justin Herman Plaza Friday!
DESCRIPTION:\nFRIDAY MAR 7\nMarc Benioff now stands as my favorite meg
 a CEO in SF. Why? Because tomorrow, Friday, March 7th, he's celebratin
 g Salesforce's 15th anniversary with a free concert in Justin Herma
 n Plaza starring Janelle Monáe!\nLast year, if you recall, Monáe pe
 rformed at Davies Symphony Hall with the San Francisco Symphony in wha
 t's now considered a historic performance. By which we mean, ladies i
 n gowns and guys with busted cumberbunds were up on their seats dancin
 g. No fibbing. It was that glorious. That magical. And now you can cat
 ch her tomorrow during your lunch hour.\nCatherin Bigelow, of course, 
 has the details: \"At 12:30 p.m., Benioff will take the stage with May
 or Ed Lee to kick-off the concert.\"\nvia http://sfist.com\n\nFor mor
 e information visit https://trueskool.com/events/free-janelle-monae-co
 ncert-in-justin-herman-plaza-friday
DTSTART;TZID=America/Los_Angeles:20140307T123000
DTEND;TZID=America/Los_Angeles:20140307T150000
CATEGORIES:"bay area", "san francisco"
LOCATION:Justin Herman Plaza, San Francisco
WEBSITE:http://sfist.com/2014/03/06/free_janelle_monae_concert_at_just
 i.php
URL:http://sfist.com/2014/03/06/free_janelle_monae_concert_at_justi.ph
 p
CONTACT:
ORGANIZER:Salesforce
ATTACH;FMTTYPE="image/jpeg":http://storage.ning.com/topology/rest/1.0/
 file/get/2247959156?profile=original
ATTENDEE;ROLE=REQ-PARTICIPANT;PARTSTAT=ACCEPTED;RSVP=TRUE;CN="Staff Pi
 ck":https://trueskool.com/profile/Ren
END:VEVENT
END:VCALENDAR
