BEGIN:VCALENDAR
PRODID:NingEventWidget-v1
VERSION:2.0
METHOD:PUBLISH
BEGIN:VTIMEZONE
TZID:America/Los_Angeles
X-LIC-LOCATION:America/Los_Angeles
BEGIN:DAYLIGHT
TZOFFSETFROM:-0800
TZOFFSETTO:-0700
TZNAME:PDT
DTSTART:19700308T020000
RRULE:FREQ=YEARLY;BYMONTH=3;BYDAY=2SU
END:DAYLIGHT
BEGIN:STANDARD
TZOFFSETFROM:-0700
TZOFFSETTO:-0800
TZNAME:PST
DTSTART:19701101T020000
RRULE:FREQ=YEARLY;BYMONTH=11;BYDAY=1SU
END:STANDARD
END:VTIMEZONE
BEGIN:VEVENT
UID:1464587:Event:159675
DTSTAMP:20260421T213242Z
SUMMARY:Free Hiphop Thursdays @ Columbia City Theater, Seattle, WA
DESCRIPTION:https://www.facebook.com/events/187253598082676/\nFREE HIP
  HOP THURSDAYS! Weekly @ Columbia City Theater in the Bourbon Bar!This
  Thursday the 24th Come Check out DJ CUES!!!www.dj-cues.comHosted by B
 ishop I (oldominion/dimmak/infinitibrothers)DJ | LIVE MUSIC | DANCING 
 | BEATS | EMCEE CYPHERS | OPEN MIC | GOOD EATS & GREAT DRINKS! 21+ @ 9
 pm 4916 Rainier Avenue South Seattle WA 98118FREE!\n\nFor more informa
 tion visit https://trueskool.com/events/free-hiphop-thursdays-columbia
 -city-theater-seattle-wa
DTSTART;TZID=America/Los_Angeles:20130124T210000
DTEND;TZID=America/Los_Angeles:20130125T020000
CATEGORIES:seattle, wa
LOCATION:Columbia City Theater, Seattle, WA
WEBSITE:https://www.facebook.com/events/187253598082676/
URL:https://www.facebook.com/events/187253598082676/
CONTACT:
ORGANIZER;CN="DJ CUES":https://trueskool.com/profile/DJCUES
ATTACH;FMTTYPE="image/jpeg":http://storage.ning.com/topology/rest/1.0/
 file/get/2247933253?profile=original
ATTENDEE;ROLE=REQ-PARTICIPANT;PARTSTAT=ACCEPTED;RSVP=TRUE;CN="DJ CUES"
 :https://trueskool.com/profile/DJCUES
END:VEVENT
END:VCALENDAR
