BEGIN:VCALENDAR
PRODID:NingEventWidget-v1
VERSION:2.0
METHOD:PUBLISH
BEGIN:VTIMEZONE
TZID:America/Los_Angeles
X-LIC-LOCATION:America/Los_Angeles
BEGIN:DAYLIGHT
TZOFFSETFROM:-0800
TZOFFSETTO:-0700
TZNAME:PDT
DTSTART:19700308T020000
RRULE:FREQ=YEARLY;BYMONTH=3;BYDAY=2SU
END:DAYLIGHT
BEGIN:STANDARD
TZOFFSETFROM:-0700
TZOFFSETTO:-0800
TZNAME:PST
DTSTART:19701101T020000
RRULE:FREQ=YEARLY;BYMONTH=11;BYDAY=1SU
END:STANDARD
END:VTIMEZONE
BEGIN:VEVENT
UID:1464587:Event:37398
DTSTAMP:20260421T002914Z
SUMMARY:Free Friday!
DESCRIPTION:In The Dark Room,\nClub Six Presents:\nFREE FRIDAY!\nCheck
  out our Summertime Series of FREE Parties!\n\nDJ Satva\n\n2 4 1 Drink
 s 10-11pm\n\n\nPrice FREE!\nTime 9pm-2am\nMusic Hip-Hop, Reggae, Dance
 hall, Club Classics\n\nFor more information visit https://trueskool.co
 m/events/free-friday-2
DTSTART;TZID=America/Los_Angeles:20090814T210000
DTEND;TZID=America/Los_Angeles:20090815T030000
CATEGORIES:hip, hop, dancehall, reggae
LOCATION:Club Six Dark Room, San Francisco, CA
WEBSITE:http://www.clubsix1.com
URL:http://www.clubsix1.com
CONTACT:415-531-6593
ORGANIZER:Angel
ATTACH;FMTTYPE="image/jpeg":http://storage.ning.com/topology/rest/1.0/
 file/get/2247853905?profile=original
ATTENDEE;ROLE=REQ-PARTICIPANT;PARTSTAT=ACCEPTED;RSVP=TRUE;CN=Cecily:ht
 tps://trueskool.com/profile/Cecily
END:VEVENT
END:VCALENDAR
