BEGIN:VCALENDAR
PRODID:NingEventWidget-v1
VERSION:2.0
METHOD:PUBLISH
BEGIN:VTIMEZONE
TZID:America/Los_Angeles
X-LIC-LOCATION:America/Los_Angeles
BEGIN:DAYLIGHT
TZOFFSETFROM:-0800
TZOFFSETTO:-0700
TZNAME:PDT
DTSTART:19700308T020000
RRULE:FREQ=YEARLY;BYMONTH=3;BYDAY=2SU
END:DAYLIGHT
BEGIN:STANDARD
TZOFFSETFROM:-0700
TZOFFSETTO:-0800
TZNAME:PST
DTSTART:19701101T020000
RRULE:FREQ=YEARLY;BYMONTH=11;BYDAY=1SU
END:STANDARD
END:VTIMEZONE
BEGIN:VEVENT
UID:1464587:Event:37129
DTSTAMP:20260420T201203Z
SUMMARY:Free Friday
DESCRIPTION:Club Six Presents:\nFREE FRIDAY!\nCheck out our Summertime
  Series of FREE Parties.\n\n2 4 1 Drinks 10-11\n\nDJ Delivery and Frie
 nds\nPrice FREE!\nTime 9pm-2am\nMusic Hip Hop, Reggae, Dancehall, Club
  Classics\nOfficial Site: http://www.clubsix1.com\n\nFor more informat
 ion visit https://trueskool.com/events/free-friday-1
DTSTART;TZID=America/Los_Angeles:20090807T210000
DTEND;TZID=America/Los_Angeles:20090808T030000
CATEGORIES:hip, hop, reggae, dancehall, club, classics
LOCATION:Club Six Dark Room, San Francisco, CA
WEBSITE:http://www.clubsix1.com
URL:http://www.clubsix1.com
CONTACT:415-531-6593
ORGANIZER:Angel
ATTACH;FMTTYPE="image/jpeg":http://storage.ning.com/topology/rest/1.0/
 file/get/2247853905?profile=original
ATTENDEE;ROLE=REQ-PARTICIPANT;PARTSTAT=ACCEPTED;RSVP=TRUE;CN=Cecily:ht
 tps://trueskool.com/profile/Cecily
END:VEVENT
END:VCALENDAR
