BEGIN:VCALENDAR
PRODID:NingEventWidget-v1
VERSION:2.0
METHOD:PUBLISH
BEGIN:VTIMEZONE
TZID:America/Los_Angeles
X-LIC-LOCATION:America/Los_Angeles
BEGIN:DAYLIGHT
TZOFFSETFROM:-0800
TZOFFSETTO:-0700
TZNAME:PDT
DTSTART:19700308T020000
RRULE:FREQ=YEARLY;BYMONTH=3;BYDAY=2SU
END:DAYLIGHT
BEGIN:STANDARD
TZOFFSETFROM:-0700
TZOFFSETTO:-0800
TZNAME:PST
DTSTART:19701101T020000
RRULE:FREQ=YEARLY;BYMONTH=11;BYDAY=1SU
END:STANDARD
END:VTIMEZONE
BEGIN:VEVENT
UID:1464587:Event:650751
DTSTAMP:20260421T094225Z
SUMMARY:Free Concert For Bernie feat. Dave Matthews,  Fishbone, Fantas
 tic Negrito, Cornell West, Danny Glover & MORE!
DESCRIPTION:\nJoin Bernie Sanders in San Francisco for a GOTV Concert 
 featuring Dave Matthews, Fantastic Negrito, Fishbone, Yarn and speci
 al guests Dr. Cornel West, Shailene Woodley and Danny Glover at Criss
 y Field, San Francisco\nThis event is free and open to the public, but
  RSVPs are strongly encouraged. Admission is first come, first served.
  All guests should enter the park from the east via Old Mason Street o
 r the San Francisco Bay Trail. \nThis event is free and open to the p
 ublic, but RSVPs are strongly encouraged. Admission is first come, fir
 st served.\nRSVP HERE\n\n\n\nFor more information visit https://truesk
 ool.com/events/free-concert-for-bernie-feat-dave-matthews-fishbone-fan
 tastic-neg
DTSTART;TZID=America/Los_Angeles:20160606T153000
DTEND;TZID=America/Los_Angeles:20160606T190000
CATEGORIES:"bay area", "san francisco"
LOCATION:Crissy Field in the Presidio (San Francisco, CA)
WEBSITE:https://go.berniesanders.com/page/event/detail/gplfrd
URL:https://go.berniesanders.com/page/event/detail/gplfrd
CONTACT:
ORGANIZER:GOTV
ATTACH;FMTTYPE="image/jpeg":http://storage.ning.com/topology/rest/1.0/
 file/get/2247989505?profile=original
ATTENDEE;ROLE=REQ-PARTICIPANT;PARTSTAT=ACCEPTED;RSVP=TRUE;CN="Editor's
  Pick":https://trueskool.com/profile/RentheVinylArchaeologist
END:VEVENT
END:VCALENDAR
