BEGIN:VCALENDAR
PRODID:NingEventWidget-v1
VERSION:2.0
METHOD:PUBLISH
BEGIN:VTIMEZONE
TZID:America/Los_Angeles
X-LIC-LOCATION:America/Los_Angeles
BEGIN:DAYLIGHT
TZOFFSETFROM:-0800
TZOFFSETTO:-0700
TZNAME:PDT
DTSTART:19700308T020000
RRULE:FREQ=YEARLY;BYMONTH=3;BYDAY=2SU
END:DAYLIGHT
BEGIN:STANDARD
TZOFFSETFROM:-0700
TZOFFSETTO:-0800
TZNAME:PST
DTSTART:19701101T020000
RRULE:FREQ=YEARLY;BYMONTH=11;BYDAY=1SU
END:STANDARD
END:VTIMEZONE
BEGIN:VEVENT
UID:1464587:Event:375733
DTSTAMP:20260421T164459Z
SUMMARY:Free City Presents: Mic-City
DESCRIPTION:Welcome To Mic-City Tuesday, this is a monthly event for e
 merging artists/DJ's/ producers/emcees and all those who are involved 
 in the entertainment industry and everyone with musical talents to get
  together, perform network and showcase their strengths and shake hand
 s with the hottest local promoters and entertainment companies in the 
 415 area code. Come have a drink dance and enjoy live performances and
  DJ's on the last Tuesday of every month!!!  Performances By L-Mo 415 
 West One The Homey Nolte Daggett the Protagonist A-Ron Bacardi BG and 
 More!\n\nFor more information visit https://trueskool.com/events/free-
 city-presents-mic-city
DTSTART;TZID=America/Los_Angeles:20140624T200000
DTEND;TZID=America/Los_Angeles:20140625T010000
CATEGORIES:san, rafael, ca
LOCATION:Georges Nightclub, San Rafael, CA
WEBSITE:http://Free
URL:http://Free
CONTACT:415-226-0262
ORGANIZER:FreeCity
ATTACH;FMTTYPE="image/jpeg":http://storage.ning.com/topology/rest/1.0/
 file/get/2247963630?profile=original
ATTENDEE;ROLE=REQ-PARTICIPANT;PARTSTAT=ACCEPTED;RSVP=TRUE;CN="Makaela 
 Susnow":https://trueskool.com/profile/MakaelaSusnow
END:VEVENT
END:VCALENDAR
