BEGIN:VCALENDAR
PRODID:NingEventWidget-v1
VERSION:2.0
METHOD:PUBLISH
BEGIN:VTIMEZONE
TZID:America/Los_Angeles
X-LIC-LOCATION:America/Los_Angeles
BEGIN:DAYLIGHT
TZOFFSETFROM:-0800
TZOFFSETTO:-0700
TZNAME:PDT
DTSTART:19700308T020000
RRULE:FREQ=YEARLY;BYMONTH=3;BYDAY=2SU
END:DAYLIGHT
BEGIN:STANDARD
TZOFFSETFROM:-0700
TZOFFSETTO:-0800
TZNAME:PST
DTSTART:19701101T020000
RRULE:FREQ=YEARLY;BYMONTH=11;BYDAY=1SU
END:STANDARD
END:VTIMEZONE
BEGIN:VEVENT
UID:1464587:Event:389333
DTSTAMP:20260421T033459Z
SUMMARY:Free City Presents...  LuVPlanet w/ Bonstone
DESCRIPTION:Singer/Songwriter/Guitarists Nicole Sutton and Mark McGee 
 take musical vision and crossover appeal to new heights. Their persuas
 ive, genre bending sound is a template for a new era of world class Ro
 ck music! With 4 studio releases Luvplanet (2003), State of Mind (2005
 ), Lucky One(2008) and Luvolution(2010), their loyal followers and rep
 utation as an arena ready band continues to grow. Songwriters Sutton a
 nd McGee deliver exciting Rock anthems, slow moving ballads and progre
 ssive psychedelic jams all laden with strumming acoustics, big guns el
 ectric guitars and perfectly woven rhythms. With memorable hooks, mean
 ingful lyrics and raw genuine emotion, their music lures you in. Longt
 ime bassist Tommy Sisco and drummer Scott McKenzie connect the musical
  circle with their irresistible feel and syncopated grooves. The music
 's universal appeal penetrates the hearts of people 7 to 70 with songs
  illuminating with global potential.\n\nFor more information visit htt
 ps://trueskool.com/events/free-city-presents-luvplanet-w-bonstone
DTSTART;TZID=America/Los_Angeles:20140718T210000
DTEND;TZID=America/Los_Angeles:20140719T000000
CATEGORIES:san, francisco, ca
LOCATION:San Rafael, CA
WEBSITE:
URL:
CONTACT:+1 415-226-0262
ORGANIZER;CN="Makaela Susnow":https://trueskool.com/profile/MakaelaSus
 now
ATTACH;FMTTYPE="image/jpeg":
ATTENDEE;ROLE=REQ-PARTICIPANT;PARTSTAT=ACCEPTED;RSVP=TRUE;CN="Makaela 
 Susnow":https://trueskool.com/profile/MakaelaSusnow
END:VEVENT
END:VCALENDAR
