BEGIN:VCALENDAR
PRODID:NingEventWidget-v1
VERSION:2.0
METHOD:PUBLISH
BEGIN:VTIMEZONE
TZID:America/Los_Angeles
X-LIC-LOCATION:America/Los_Angeles
BEGIN:DAYLIGHT
TZOFFSETFROM:-0800
TZOFFSETTO:-0700
TZNAME:PDT
DTSTART:19700308T020000
RRULE:FREQ=YEARLY;BYMONTH=3;BYDAY=2SU
END:DAYLIGHT
BEGIN:STANDARD
TZOFFSETFROM:-0700
TZOFFSETTO:-0800
TZNAME:PST
DTSTART:19701101T020000
RRULE:FREQ=YEARLY;BYMONTH=11;BYDAY=1SU
END:STANDARD
END:VTIMEZONE
BEGIN:VEVENT
UID:1464587:Event:159687
DTSTAMP:20260421T115001Z
SUMMARY:FRÃ‰DÃ‰RIC YONNET with TALIB KWELI
DESCRIPTION:\nSaturday, January 26, 2013\nFRÃ‰DÃ‰RIC YONNET with TALIB
  KWELIUrban Jazz Harmonicist returns to Yoshi's with one of the worldâ
 €™s most talented and most accomplished rappers!\nÂ \nYoshi's San Fran
 cisco 1330 Fillmore Street SF, CA 94115 Phone: 415.655.5600\n8pm & 10p
 m presale tickets - sold out! 8pm $28. 10pm $28.\n$8.00 off w/ promo c
 ode: TS (case sensitive)\nÂ» BUY TICKETS\n\n\n\nFor more information v
 isit https://trueskool.com/events/frederic-yonnet-with-talib-kweli
DTSTART;TZID=America/Los_Angeles:20130126T200000
DTEND;TZID=America/Los_Angeles:20130126T230000
CATEGORIES:"bay area", "san francisco"
LOCATION:Yoshi's, San Francisco
WEBSITE:http://sfyoshis.inticketing.com/evlist.php?events=search&searc
 hstr=yonnet
URL:http://sfyoshis.inticketing.com/evlist.php?events=search&searchstr
 =yonnet
CONTACT:
ORGANIZER:Yoshi's
ATTACH;FMTTYPE="image/jpeg":http://storage.ning.com/topology/rest/1.0/
 file/get/2247933070?profile=original
ATTENDEE;ROLE=REQ-PARTICIPANT;PARTSTAT=ACCEPTED;RSVP=TRUE;CN="Ren the 
 Vinyl Archaeologist":https://trueskool.com/profile/xh51jvilojur
END:VEVENT
END:VCALENDAR
