BEGIN:VCALENDAR
PRODID:NingEventWidget-v1
VERSION:2.0
METHOD:PUBLISH
BEGIN:VTIMEZONE
TZID:America/Los_Angeles
X-LIC-LOCATION:America/Los_Angeles
BEGIN:DAYLIGHT
TZOFFSETFROM:-0800
TZOFFSETTO:-0700
TZNAME:PDT
DTSTART:19700308T020000
RRULE:FREQ=YEARLY;BYMONTH=3;BYDAY=2SU
END:DAYLIGHT
BEGIN:STANDARD
TZOFFSETFROM:-0700
TZOFFSETTO:-0800
TZNAME:PST
DTSTART:19701101T020000
RRULE:FREQ=YEARLY;BYMONTH=11;BYDAY=1SU
END:STANDARD
END:VTIMEZONE
BEGIN:VEVENT
UID:1464587:Event:26335
DTSTAMP:20260423T131929Z
SUMMARY:Frankie Jr.'s Going Away Party
DESCRIPTION:Saturday, February 7th\n\nFrankie Jr.’s Going Away Party
  @ 1015 Folsom\n\nFeaturing:\n\nTaj\nKevin Kind\nAndrew Phelan & Origa
 mi\nHomero Espinosa\nRob Bishop\nDJ Frankie Jr.\nCorporate Scandals\nJ
 ared F\nNima G\nDJ Solarz\nCJ Flash\n\n***For complimentary admission 
 before Midnight visit:***\n\nhttp://www.prismatictracks.com/guestlist.
 php\n\n21+\n10PM-7AM\n1015 Folsom St.\n1015.com\n\nFor more informatio
 n visit https://trueskool.com/events/frankie-jrs-going-away-party
DTSTART;TZID=America/Los_Angeles:20090207T220000
DTEND;TZID=America/Los_Angeles:20090208T070000
CATEGORIES:house
LOCATION:1015 Folsom, San Francisco, CA
WEBSITE:http://www.prismatictracks.com/guestlist.php
URL:http://www.prismatictracks.com/guestlist.php
CONTACT:415-431-1200
ORGANIZER;CN=Prismatic:https://trueskool.com/profile/Prismatic
ATTACH;FMTTYPE="image/jpeg":http://storage.ning.com/topology/rest/1.0/
 file/get/2247854174?profile=original
ATTENDEE;ROLE=REQ-PARTICIPANT;PARTSTAT=ACCEPTED;RSVP=TRUE;CN=Prismatic
 :https://trueskool.com/profile/Prismatic
END:VEVENT
END:VCALENDAR
