BEGIN:VCALENDAR
PRODID:NingEventWidget-v1
VERSION:2.0
METHOD:PUBLISH
BEGIN:VTIMEZONE
TZID:America/Los_Angeles
X-LIC-LOCATION:America/Los_Angeles
BEGIN:DAYLIGHT
TZOFFSETFROM:-0800
TZOFFSETTO:-0700
TZNAME:PDT
DTSTART:19700308T020000
RRULE:FREQ=YEARLY;BYMONTH=3;BYDAY=2SU
END:DAYLIGHT
BEGIN:STANDARD
TZOFFSETFROM:-0700
TZOFFSETTO:-0800
TZNAME:PST
DTSTART:19701101T020000
RRULE:FREQ=YEARLY;BYMONTH=11;BYDAY=1SU
END:STANDARD
END:VTIMEZONE
BEGIN:VEVENT
UID:1464587:Event:54157
DTSTAMP:20260420T180759Z
SUMMARY:FRANK151 Book Release Party
DESCRIPTION:Artnow SF presents:\n\nFRANK151 Book Release Party\nChapte
 r 40: Gumball 3000\n\nThursday April 29th @\n\nManor West (750 Harriso
 n st. SF, CA)\n\nW/ DJs\n\nNEIL ARMSTRONG (Jay Z tour DJ 08/09 - Adida
 s - 5th Platoon)\n\nLEX (Souls of Mischief tour DJ)\n\nBEATS ME (disto
 rtion 2 static)\n\nHosted by : FLOSSAFEE\n\nDoors open at 10pm - 21+\n
 $10 in advance\n$15 at the door\n\nFor Table Reservations:\nVIP@maorwe
 st.com\n415 240 7558\n\nGiveaways from our sponsors: Frank151, Black S
 cale, Alchemetric, Self Edge, Benny Gold, and Gold Coin.\n\nFor more i
 nformation visit https://trueskool.com/events/frank151-book-release-pa
 rty
DTSTART;TZID=America/Los_Angeles:20100429T220000
DTEND;TZID=America/Los_Angeles:20100430T020000
CATEGORIES:hip, hop
LOCATION:Manor West, San Francisco, CA
WEBSITE:http://Artnowsf.com
URL:http://Artnowsf.com
CONTACT:
ORGANIZER:ARTNOW SF
ATTACH;FMTTYPE="image/jpeg":http://storage.ning.com/topology/rest/1.0/
 file/get/2247878149?profile=original
ATTENDEE;ROLE=REQ-PARTICIPANT;PARTSTAT=ACCEPTED;RSVP=TRUE;CN="caramel 
 queen":https://trueskool.com/profile/caramelqueen
ATTENDEE;ROLE=REQ-PARTICIPANT;PARTSTAT=ACCEPTED;RSVP=TRUE;CN=ARTNOW:ht
 tps://trueskool.com/profile/ARTNOW
ATTENDEE;ROLE=REQ-PARTICIPANT;PARTSTAT=TENTATIVE;RSVP=TRUE;CN="Editor'
 s Pick":https://trueskool.com/profile/RentheVinylArchaeologist
END:VEVENT
END:VCALENDAR
