BEGIN:VCALENDAR
PRODID:NingEventWidget-v1
VERSION:2.0
METHOD:PUBLISH
BEGIN:VTIMEZONE
TZID:America/Los_Angeles
X-LIC-LOCATION:America/Los_Angeles
BEGIN:DAYLIGHT
TZOFFSETFROM:-0800
TZOFFSETTO:-0700
TZNAME:PDT
DTSTART:19700308T020000
RRULE:FREQ=YEARLY;BYMONTH=3;BYDAY=2SU
END:DAYLIGHT
BEGIN:STANDARD
TZOFFSETFROM:-0700
TZOFFSETTO:-0800
TZNAME:PST
DTSTART:19701101T020000
RRULE:FREQ=YEARLY;BYMONTH=11;BYDAY=1SU
END:STANDARD
END:VTIMEZONE
BEGIN:VEVENT
UID:1464587:Event:28878
DTSTAMP:20260421T032837Z
SUMMARY:Frank Romano
DESCRIPTION:Book Signing: Storm Over Morocco, 2nd Edition/Frank Romano
 \nA desperate escape from an Islamic sect.The 2nd Edition includes new
  chapter on recent meeting with Militant Palestinians West Bank refuge
 e camp.\n\nFor more information visit https://trueskool.com/events/fra
 nk-romano-1
DTSTART;TZID=America/Los_Angeles:20090418T140000
DTEND;TZID=America/Los_Angeles:20090418T160000
CATEGORIES:author, event
LOCATION:Borders Bookstore, San Francisco, CA
WEBSITE:http://www.frankromano363.blogspot.com
URL:http://www.frankromano363.blogspot.com
CONTACT:01133624356659
ORGANIZER;CN="Frank Romano":https://trueskool.com/profile/FrankRomano
ATTACH;FMTTYPE="image/jpeg":
ATTENDEE;ROLE=REQ-PARTICIPANT;PARTSTAT=ACCEPTED;RSVP=TRUE;CN="Frank Ro
 mano":https://trueskool.com/profile/FrankRomano
END:VEVENT
END:VCALENDAR
