BEGIN:VCALENDAR
PRODID:NingEventWidget-v1
VERSION:2.0
METHOD:PUBLISH
BEGIN:VTIMEZONE
TZID:America/Los_Angeles
X-LIC-LOCATION:America/Los_Angeles
BEGIN:DAYLIGHT
TZOFFSETFROM:-0800
TZOFFSETTO:-0700
TZNAME:PDT
DTSTART:19700308T020000
RRULE:FREQ=YEARLY;BYMONTH=3;BYDAY=2SU
END:DAYLIGHT
BEGIN:STANDARD
TZOFFSETFROM:-0700
TZOFFSETTO:-0800
TZNAME:PST
DTSTART:19701101T020000
RRULE:FREQ=YEARLY;BYMONTH=11;BYDAY=1SU
END:STANDARD
END:VTIMEZONE
BEGIN:VEVENT
UID:1464587:Event:42584
DTSTAMP:20260421T022142Z
SUMMARY:Four G's Issue Release Party
DESCRIPTION:Four G's Magazine - Issue Release Party\nNovember 7th - Cl
 ub 6, 60 Sixth St., SF\n\nCelebrating the release of Issue Three with 
 graffiti and tattoo artwork, dj's and a live performance by Bored Stif
 f featuring Equipto and others.\n\nLive Art by: Nate Van Dyke\n\ndark 
 room:\nBored Stiff\nLanguage Arts Crew\nGigio and Dren Doh\nLerek and 
 Roso\nReal Talk aka Since da Prince\n\nwhite room:\nDJ BESET\nBOO BOO 
 DANGER\nDJ BSOUZA\n\nshowing art by:\nNATRL - RSN GL\nSWYPE - OSH PT L
 ORDS\nSWORNE - UM\nTAWL - LORDS AIDS\nIAN HARPER - BUDDHAS PALM TATTOO
 \n\nFeaturing Four G's models:\nTiffany & Hollywood\n\nExclusive Limit
 ed Poster release and signing by:\nAPEX\n\n$5 before 10pm with RSVP\n$
 7 10-11pm\n$10 after 11pm\n\nRSVP at www.going.com/4gs\n\n21+\n\nFor m
 ore information visit https://trueskool.com/events/four-gs-issue-relea
 se-party
DTSTART;TZID=America/Los_Angeles:20091107T210000
DTEND;TZID=America/Los_Angeles:20091108T020000
CATEGORIES:hip, hop, live, art, tattoo, graffiti, rap, hyphy
LOCATION:Club 6, San Francisco, CA
WEBSITE:http://www.clubsix1.com/
URL:http://www.clubsix1.com/
CONTACT:
ORGANIZER;CN="Four G's Magazine":https://trueskool.com/profile/FourGsM
 agazine
ATTACH;FMTTYPE="image/jpeg":http://storage.ning.com/topology/rest/1.0/
 file/get/2247867738?profile=original
ATTENDEE;ROLE=REQ-PARTICIPANT;PARTSTAT=ACCEPTED;RSVP=TRUE;CN="Four G's
  Magazine":https://trueskool.com/profile/FourGsMagazine
END:VEVENT
END:VCALENDAR
