BEGIN:VCALENDAR
PRODID:NingEventWidget-v1
VERSION:2.0
METHOD:PUBLISH
BEGIN:VTIMEZONE
TZID:America/Los_Angeles
X-LIC-LOCATION:America/Los_Angeles
BEGIN:DAYLIGHT
TZOFFSETFROM:-0800
TZOFFSETTO:-0700
TZNAME:PDT
DTSTART:19700308T020000
RRULE:FREQ=YEARLY;BYMONTH=3;BYDAY=2SU
END:DAYLIGHT
BEGIN:STANDARD
TZOFFSETFROM:-0700
TZOFFSETTO:-0800
TZNAME:PST
DTSTART:19701101T020000
RRULE:FREQ=YEARLY;BYMONTH=11;BYDAY=1SU
END:STANDARD
END:VTIMEZONE
BEGIN:VEVENT
UID:1464587:Event:25976
DTSTAMP:20260423T014424Z
SUMMARY:Forrest Day, KAPAKAHI and Still Time @ the GREAT AMERICAN MUSI
 C HALL
DESCRIPTION:Soul, Reggae, Hip-Hop, Rock....we've got it all!!!\n\nJoin
  2 of the best up-and-coming Bay Area bands at the GREAT AMERICAN MUSI
 C HALL in SF on Friday, Feb. 6th.\n\nOpening the night will be Still T
 ime from SLO, Followed by the Reggae-Fusion masters, KAPAKAHI. Closing
  the night is Forrest Day!!\n\nAlso, celebrating Steve's Birthday (of 
 Kapakahi)...so drink up and crunk. Don't want to miss out on this part
 y!\n\nCost: $14 - tickets available at www.gamhtickets.com\nWhen: Fri.
  Feb 6th, 8pm doors, 9pm show\nWhere: GREAT AMERICAN MUSIC HALL - 859 
 O'Farrell St.\n\nFor more information visit https://trueskool.com/even
 ts/forrest-day-kapakahi-and-still
DTSTART;TZID=America/Los_Angeles:20090206T200000
DTEND;TZID=America/Los_Angeles:20090207T020000
CATEGORIES:reggae, hip, hop, dance, soul, rock, funk
LOCATION:Great American Music Hall
WEBSITE:http://www.gamh.com
URL:http://www.gamh.com
CONTACT:
ORGANIZER;CN="MY PEOPLES (formerly Kapakahi)":https://trueskool.com/pr
 ofile/KAPAKAHI
ATTACH;FMTTYPE="image/jpeg":http://storage.ning.com/topology/rest/1.0/
 file/get/2247854819?profile=original
ATTENDEE;ROLE=REQ-PARTICIPANT;PARTSTAT=ACCEPTED;RSVP=TRUE;CN="MY PEOPL
 ES (formerly Kapakahi)":https://trueskool.com/profile/KAPAKAHI
END:VEVENT
END:VCALENDAR
