BEGIN:VCALENDAR
PRODID:NingEventWidget-v1
VERSION:2.0
METHOD:PUBLISH
BEGIN:VTIMEZONE
TZID:America/Los_Angeles
X-LIC-LOCATION:America/Los_Angeles
BEGIN:DAYLIGHT
TZOFFSETFROM:-0800
TZOFFSETTO:-0700
TZNAME:PDT
DTSTART:19700308T020000
RRULE:FREQ=YEARLY;BYMONTH=3;BYDAY=2SU
END:DAYLIGHT
BEGIN:STANDARD
TZOFFSETFROM:-0700
TZOFFSETTO:-0800
TZNAME:PST
DTSTART:19701101T020000
RRULE:FREQ=YEARLY;BYMONTH=11;BYDAY=1SU
END:STANDARD
END:VTIMEZONE
BEGIN:VEVENT
UID:1464587:Event:37459
DTSTAMP:20260420T213047Z
SUMMARY:For the Love
DESCRIPTION:Beats, Rymes & Life Presents:\nfor the love\nAll Proceeds 
 Benefit\nThe Beats, Rhymes & Life Film Project\n\nFeaturing Your Favor
 ite\nBay Area Artists\n\nDark Room Performances By\nMelina Jones\nJern
  Eye\nD.O.D.A.T\nJosh Gray\nEnoch\nfeaturing DJs\nHaylow & Prince Arie
 s\n\nBasement Featuring DJs\nKing Most\nDJ Platurn\nMr.E\nTon Def\nThe
  Whooligan\nMoving the crowd, Wonway Posibul\n\nWhite Room Featuring D
 Js\nRaashan Amad\nUn.D.Fined\nDion Decibels\nSivan\nEvent hosted by, C
 .A.K.E. & AlteredGround\n\nPhoto Exhibit By\nLeo Docuyanan\nJohn C. Li
 au\nDino Morrow\nLive mural by, Bounce\nPhotography by, Scott La Rockw
 ell\n\n\nPrice $10\nLimited Presale Tickets Available at\nwww.brlfilmp
 roject.com\nTime 9pm-2am\nMusic Hip-Hop\n\nFor more information visit 
 https://trueskool.com/events/for-the-love
DTSTART;TZID=America/Los_Angeles:20090821T210000
DTEND;TZID=America/Los_Angeles:20090822T030000
CATEGORIES:hip, hop
LOCATION:Club Six, San Francisco, CA
WEBSITE:http://www.clubsix1.com
URL:http://www.clubsix1.com
CONTACT:415-531-6593
ORGANIZER:Angel
ATTACH;FMTTYPE="image/jpeg":http://storage.ning.com/topology/rest/1.0/
 file/get/2247860984?profile=original
ATTENDEE;ROLE=REQ-PARTICIPANT;PARTSTAT=ACCEPTED;RSVP=TRUE;CN=Cecily:ht
 tps://trueskool.com/profile/Cecily
END:VEVENT
END:VCALENDAR
