BEGIN:VCALENDAR
PRODID:NingEventWidget-v1
VERSION:2.0
METHOD:PUBLISH
BEGIN:VTIMEZONE
TZID:America/Los_Angeles
X-LIC-LOCATION:America/Los_Angeles
BEGIN:DAYLIGHT
TZOFFSETFROM:-0800
TZOFFSETTO:-0700
TZNAME:PDT
DTSTART:19700308T020000
RRULE:FREQ=YEARLY;BYMONTH=3;BYDAY=2SU
END:DAYLIGHT
BEGIN:STANDARD
TZOFFSETFROM:-0700
TZOFFSETTO:-0800
TZNAME:PST
DTSTART:19701101T020000
RRULE:FREQ=YEARLY;BYMONTH=11;BYDAY=1SU
END:STANDARD
END:VTIMEZONE
BEGIN:VEVENT
UID:1464587:Event:40823
DTSTAMP:20260422T105034Z
SUMMARY:Fo' Sho! Fridays
DESCRIPTION:MAKossa & Kung Fu Chris + special guests spinning soul, fu
 nk, boogie, hip-hop classics and more.\n\nFor more information visit h
 ttps://trueskool.com/events/fo-sho-fridays-5
DTSTART;TZID=America/Los_Angeles:20091009T210000
DTEND;TZID=America/Los_Angeles:20091010T140000
CATEGORIES:funk, soul, hip-hop, "r&b", boogie, disco, reggae, old, sch
 ool
LOCATION:Madrone Lounge
WEBSITE:http://madronelounge.com
URL:http://madronelounge.com
CONTACT:
ORGANIZER;CN="kung fu chris":https://trueskool.com/profile/kungfuchris
ATTACH;FMTTYPE="image/jpeg":http://storage.ning.com/topology/rest/1.0/
 file/get/2247862995?profile=original
ATTENDEE;ROLE=REQ-PARTICIPANT;PARTSTAT=ACCEPTED;RSVP=TRUE;CN="kung fu 
 chris":https://trueskool.com/profile/kungfuchris
END:VEVENT
END:VCALENDAR
