BEGIN:VCALENDAR
PRODID:NingEventWidget-v1
VERSION:2.0
METHOD:PUBLISH
BEGIN:VTIMEZONE
TZID:America/Los_Angeles
X-LIC-LOCATION:America/Los_Angeles
BEGIN:DAYLIGHT
TZOFFSETFROM:-0800
TZOFFSETTO:-0700
TZNAME:PDT
DTSTART:19700308T020000
RRULE:FREQ=YEARLY;BYMONTH=3;BYDAY=2SU
END:DAYLIGHT
BEGIN:STANDARD
TZOFFSETFROM:-0700
TZOFFSETTO:-0800
TZNAME:PST
DTSTART:19701101T020000
RRULE:FREQ=YEARLY;BYMONTH=11;BYDAY=1SU
END:STANDARD
END:VTIMEZONE
BEGIN:VEVENT
UID:1464587:Event:32004
DTSTAMP:20260421T202145Z
SUMMARY:Fo' Sho! Fridays!
DESCRIPTION:FRIDAY MAY 8TH\n\nFo' Sho! Fridays!\n\n\nFo' Sho! Fridays!
  featuring DJs Kung Fu Chris & MAKossa +\nspecial guests, bringing hea
 t to the dance floor with soul, funk,\nhip-hop classics and block rock
 ing breaks!\n\nKung Fu Chris\nhttp://myspace.com/kungfuchris\n\nMAKoss
 a\nhttp://feeltherealness.blogspot.com/\n\n\nMADRONE LOUNGE\n500 Divis
 adero Street @ Fell\nSF CA 94117\nhttp://madronelounge.com\n\n9pm 21 &
  up\n\nFree before 10pm $5 After\n\nFor more information visit https:/
 /trueskool.com/events/fo-sho-fridays-4
DTSTART;TZID=America/Los_Angeles:20090508T210000
DTEND;TZID=America/Los_Angeles:20090509T140000
CATEGORIES:hip-hop, funk, djs, dancing, drink, specials, club, friday,
  night, monthly, party, sound, system, old, school
LOCATION:Madrone Lounge
WEBSITE:http://madronelounge.com
URL:http://madronelounge.com
CONTACT:
ORGANIZER;CN="kung fu chris":https://trueskool.com/profile/kungfuchris
ATTACH;FMTTYPE="image/jpeg":http://storage.ning.com/topology/rest/1.0/
 file/get/2247856793?profile=original
ATTENDEE;ROLE=REQ-PARTICIPANT;PARTSTAT=ACCEPTED;RSVP=TRUE;CN="kung fu 
 chris":https://trueskool.com/profile/kungfuchris
END:VEVENT
END:VCALENDAR
