BEGIN:VCALENDAR
PRODID:NingEventWidget-v1
VERSION:2.0
METHOD:PUBLISH
BEGIN:VTIMEZONE
TZID:America/Los_Angeles
X-LIC-LOCATION:America/Los_Angeles
BEGIN:DAYLIGHT
TZOFFSETFROM:-0800
TZOFFSETTO:-0700
TZNAME:PDT
DTSTART:19700308T020000
RRULE:FREQ=YEARLY;BYMONTH=3;BYDAY=2SU
END:DAYLIGHT
BEGIN:STANDARD
TZOFFSETFROM:-0700
TZOFFSETTO:-0800
TZNAME:PST
DTSTART:19701101T020000
RRULE:FREQ=YEARLY;BYMONTH=11;BYDAY=1SU
END:STANDARD
END:VTIMEZONE
BEGIN:VEVENT
UID:1464587:Event:30404
DTSTAMP:20260420T213204Z
SUMMARY:Fo Sho! Fridays
DESCRIPTION:Friday, April 10th\nFo Sho! Fridays\nFunk, soul, hip-hop, 
 reggae\n\nwith E Da Boss (Blackalicious, OM, Timmion), MAKossa (The Fu
 nky Rewind) and Kung Fu Chris (Raw Deluxe)\n\nMadrone Lounge, 500 Divi
 sadero St. (at Fell), SF, CA 94117\n$5\nhttp://feeltherealness.blogspo
 t.com/\n\nE Da Boss has toured the world as the performance DJ for Bla
 ckalicious, Gift of Gab, Lateef the Truthspeaker, Jennifer Johns, and 
 Bicasso of Living Legends. Having been fed a steady diet of E's beat t
 apes, Gift of Gab said he would make a point of working with E, and la
 ter on, after Gab called him from South Africa, E officially became Bl
 ackalicious' tour DJ and through that, also spun for Gift of Gab's sol
 o tour, Lateef the Truthspeaker's solo tour, and some dates for Lyrics
  Born. He has shared the stage with such luminaries as KRS-One, Mary J
 . Blige, Missy Elliot, The Roots, Chaka Kahn, and many more.\n\nFor mo
 re information visit https://trueskool.com/events/fo-sho-fridays-3
DTSTART;TZID=America/Los_Angeles:20090410T220000
DTEND;TZID=America/Los_Angeles:20090411T020000
CATEGORIES:funk, soul, hip-hop, reggae
LOCATION:Madrone Lounge, San Francisco, CA
WEBSITE:http://feeltherealness.blogspot.com/
URL:http://feeltherealness.blogspot.com/
CONTACT:
ORGANIZER:
ATTACH;FMTTYPE="image/jpeg":http://storage.ning.com/topology/rest/1.0/
 file/get/2068657701?profile=original
ATTENDEE;ROLE=REQ-PARTICIPANT;PARTSTAT=ACCEPTED;RSVP=TRUE;CN=Deanna:ht
 tps://trueskool.com/profile/Deanna
ATTENDEE;ROLE=REQ-PARTICIPANT;PARTSTAT=ACCEPTED;RSVP=TRUE;CN="kung fu 
 chris":https://trueskool.com/profile/kungfuchris
ATTENDEE;ROLE=REQ-PARTICIPANT;PARTSTAT=ACCEPTED;RSVP=TRUE;CN="Editor's
  Pick":https://trueskool.com/profile/RentheVinylArchaeologist
END:VEVENT
END:VCALENDAR
