BEGIN:VCALENDAR
PRODID:NingEventWidget-v1
VERSION:2.0
METHOD:PUBLISH
BEGIN:VTIMEZONE
TZID:America/Los_Angeles
X-LIC-LOCATION:America/Los_Angeles
BEGIN:DAYLIGHT
TZOFFSETFROM:-0800
TZOFFSETTO:-0700
TZNAME:PDT
DTSTART:19700308T020000
RRULE:FREQ=YEARLY;BYMONTH=3;BYDAY=2SU
END:DAYLIGHT
BEGIN:STANDARD
TZOFFSETFROM:-0700
TZOFFSETTO:-0800
TZNAME:PST
DTSTART:19701101T020000
RRULE:FREQ=YEARLY;BYMONTH=11;BYDAY=1SU
END:STANDARD
END:VTIMEZONE
BEGIN:VEVENT
UID:1464587:Event:50957
DTSTAMP:20260420T212117Z
SUMMARY:Fo' Sho! Fridays 2yr Anniversary Party!!
DESCRIPTION:BREAKS SO HARD YOU MIGHT NOT EVER COME OUT YOUR B-BOY STAN
 CE!!!\n\nIt's been 2 years ya'll that we've been bringing you the heat
  @ Fo' Sho! Fridays.\n\nHosted every second Friday by MAKossa (AFREAKA
 !, Funky Rewind) and Kung Fu Chris (Funky Rewind /Raw Deluxe), The mon
 thly party has been in full effect, dropping the best in Soul, Funk, B
 oogie, Reggae, Hip-Hop and more... Come on down and celebrate with us!
 \n\nFor more information visit https://trueskool.com/events/fo-sho-fri
 days-2yr-anniversary
DTSTART;TZID=America/Los_Angeles:20100409T210000
DTEND;TZID=America/Los_Angeles:20100410T020000
CATEGORIES:hip-hop, funk, soul, boogie, old, school, go-go, rare-groov
 e, dancehall, "r&b"
LOCATION:Madrone Lounge
WEBSITE:http://madronelounge.com
URL:http://madronelounge.com
CONTACT:
ORGANIZER;CN="kung fu chris":https://trueskool.com/profile/kungfuchris
ATTACH;FMTTYPE="image/jpeg":http://storage.ning.com/topology/rest/1.0/
 file/get/2247862995?profile=original
ATTENDEE;ROLE=REQ-PARTICIPANT;PARTSTAT=ACCEPTED;RSVP=TRUE;CN="Matt F":
 https://trueskool.com/profile/MattF
ATTENDEE;ROLE=REQ-PARTICIPANT;PARTSTAT=ACCEPTED;RSVP=TRUE;CN="kung fu 
 chris":https://trueskool.com/profile/kungfuchris
END:VEVENT
END:VCALENDAR
