BEGIN:VCALENDAR
PRODID:NingEventWidget-v1
VERSION:2.0
METHOD:PUBLISH
BEGIN:VTIMEZONE
TZID:America/Los_Angeles
X-LIC-LOCATION:America/Los_Angeles
BEGIN:DAYLIGHT
TZOFFSETFROM:-0800
TZOFFSETTO:-0700
TZNAME:PDT
DTSTART:19700308T020000
RRULE:FREQ=YEARLY;BYMONTH=3;BYDAY=2SU
END:DAYLIGHT
BEGIN:STANDARD
TZOFFSETFROM:-0700
TZOFFSETTO:-0800
TZNAME:PST
DTSTART:19701101T020000
RRULE:FREQ=YEARLY;BYMONTH=11;BYDAY=1SU
END:STANDARD
END:VTIMEZONE
BEGIN:VEVENT
UID:1464587:Event:37219
DTSTAMP:20260420T193544Z
SUMMARY:Flux 53 Mural Dedication and Community Celebration
DESCRIPTION:The Flux mural concludes a four-mural series on the theme 
 of the flowering of new life. Come celebrate its completion!\n\nLIVE P
 AINTING - FREE FOOD - DJ TWELVZ ON THE 1’s & 2’s\n\nand performanc
 es by:\n\n- League 510\n- Mike 360\n- Mahasen\n- All Soul\n- Turf Unit
 y Project\n- JB Rap\n- Virtuous\n- Mumbles\n- I GO Youth Poets\n\nFor 
 more information visit https://trueskool.com/events/flux-53-mural-dedi
 cation-and
DTSTART;TZID=America/Los_Angeles:20090808T120000
DTEND;TZID=America/Los_Angeles:20090808T160000
CATEGORIES:hip, hop, block, party
LOCATION:Flux 53 Theater
WEBSITE:http://www.flux53.net
URL:http://www.flux53.net
CONTACT:(510) 842-8841
ORGANIZER;CN="Flux 53 Theater":https://trueskool.com/profile/Flux53The
 ater
ATTACH;FMTTYPE="image/jpeg":http://storage.ning.com/topology/rest/1.0/
 file/get/2247860097?profile=original
ATTENDEE;ROLE=REQ-PARTICIPANT;PARTSTAT=ACCEPTED;RSVP=TRUE;CN="Flux 53 
 Theater":https://trueskool.com/profile/Flux53Theater
END:VEVENT
END:VCALENDAR
