BEGIN:VCALENDAR
PRODID:NingEventWidget-v1
VERSION:2.0
METHOD:PUBLISH
BEGIN:VTIMEZONE
TZID:America/Los_Angeles
X-LIC-LOCATION:America/Los_Angeles
BEGIN:DAYLIGHT
TZOFFSETFROM:-0800
TZOFFSETTO:-0700
TZNAME:PDT
DTSTART:19700308T020000
RRULE:FREQ=YEARLY;BYMONTH=3;BYDAY=2SU
END:DAYLIGHT
BEGIN:STANDARD
TZOFFSETFROM:-0700
TZOFFSETTO:-0800
TZNAME:PST
DTSTART:19701101T020000
RRULE:FREQ=YEARLY;BYMONTH=11;BYDAY=1SU
END:STANDARD
END:VTIMEZONE
BEGIN:VEVENT
UID:1464587:Event:239864
DTSTAMP:20260421T100951Z
SUMMARY:Flosstradamus
DESCRIPTION:Flosstradamus\nDJ Spinz\nFriday December 20, 2013\n\nSPECS
 \n\nThe Warfield\nSan Francisco, CA\nShow time: 9:00pm\nDoor time: 8:0
 0pm\nAge: All Ages+\n\n\nTICKETS\n\nTickets Available: Friday August 1
 6, 2013\n$25.00*\n* Service and/or handling fees are added to the pric
 e of each ticket.\n\n\n\nFor more information visit https://trueskool.
 com/events/flosstradamus-1
DTSTART;TZID=America/Los_Angeles:20131220T210000
DTEND;TZID=America/Los_Angeles:20131220T230000
CATEGORIES:"san francisco, ca"
LOCATION:The Warfield San Francisco
WEBSITE:http://goldenvoice.com/shows/details/?id=244251
URL:http://goldenvoice.com/shows/details/?id=244251
CONTACT:
ORGANIZER;CN="Editor's Pick":https://trueskool.com/profile/RentheVinyl
 Archaeologist
ATTACH;FMTTYPE="image/jpeg":http://storage.ning.com/topology/rest/1.0/
 file/get/2247948020?profile=original
ATTENDEE;ROLE=REQ-PARTICIPANT;PARTSTAT=ACCEPTED;RSVP=TRUE;CN="Editor's
  Pick":https://trueskool.com/profile/RentheVinylArchaeologist
END:VEVENT
END:VCALENDAR
