BEGIN:VCALENDAR
PRODID:NingEventWidget-v1
VERSION:2.0
METHOD:PUBLISH
BEGIN:VTIMEZONE
TZID:America/Los_Angeles
X-LIC-LOCATION:America/Los_Angeles
BEGIN:DAYLIGHT
TZOFFSETFROM:-0800
TZOFFSETTO:-0700
TZNAME:PDT
DTSTART:19700308T020000
RRULE:FREQ=YEARLY;BYMONTH=3;BYDAY=2SU
END:DAYLIGHT
BEGIN:STANDARD
TZOFFSETFROM:-0700
TZOFFSETTO:-0800
TZNAME:PST
DTSTART:19701101T020000
RRULE:FREQ=YEARLY;BYMONTH=11;BYDAY=1SU
END:STANDARD
END:VTIMEZONE
BEGIN:VEVENT
UID:1464587:Event:282400
DTSTAMP:20260421T035650Z
SUMMARY:Flirt
DESCRIPTION:\n\nGREETINGS FRIENDS!!  \"FLIRT\" NICE OR NAUGHTY AFTER H
 OURS PRE XMAS PARTY. HOSTED BY CLOUD 9, PAM & BALL-D HAPPENING FRIDAY 
 DEC. 20TH 11PM-4AM  THE BONNIE & CLYDE SHOW WILL BE IN FULL EFFECT SPI
 NNING ALL YOUR FAVORITE PARTY JAMS.  WE KNOW YOUR MONEY MAY BE FUNNY B
 EING CLOSE TO XMAS SO WE'RE DOING A $10 COVER ALL NIGHT *****LADIES FR
 EE BEFORE MIDNIGHT*****  DRINK SPECIALS AND LATE NIGHT FOOD MENU AVAIL
 ABLE  *****CELEBRATING A B-DAY!!! WE GOT'CHA COVERED*****  YOU CAN RES
 ERVE SEINFELDS V.I.P. LOUNGE BUS LOCATED INSIDE THE VENUE FOR $175 W/ 
 BOTTLE OF YOUR CHOICE   VODKA (CIROC OR GREY GOOSE) TEQUILA (DON JULI
 O OR PATRON) COGNAC (HENNESSY OR REMY)  INCLUDED ALONG WITH 10 OF YOUR
  FRIENDS OR FAMILY ON YOUR FREE GUESTLIST. CONTACT djballd@gmail.com T
 O RESERVE SPACE.  GROWN AND SEXY DRESS CODE ONLY!!!!  S/O TO ALL THE O
 UR SAGITTARIUS FRIENDS  THANKS!!!!\n\n\n\n\nFor more information visit
  https://trueskool.com/events/flirt
DTSTART;TZID=America/Los_Angeles:20131220T230000
DTEND;TZID=America/Los_Angeles:20131221T040000
CATEGORIES:pre, xmas, after, hours, party
LOCATION:Cloud 9 \"After Hours\"
WEBSITE:
URL:
CONTACT:
ORGANIZER;CN="Dj Ball-D":https://trueskool.com/profile/DjBallD
ATTACH;FMTTYPE="image/jpeg":http://storage.ning.com/topology/rest/1.0/
 file/get/2247953791?profile=original
ATTENDEE;ROLE=REQ-PARTICIPANT;PARTSTAT=ACCEPTED;RSVP=TRUE;CN="Dj Ball-
 D":https://trueskool.com/profile/DjBallD
END:VEVENT
END:VCALENDAR
