BEGIN:VCALENDAR
PRODID:NingEventWidget-v1
VERSION:2.0
METHOD:PUBLISH
BEGIN:VTIMEZONE
TZID:America/Los_Angeles
X-LIC-LOCATION:America/Los_Angeles
BEGIN:DAYLIGHT
TZOFFSETFROM:-0800
TZOFFSETTO:-0700
TZNAME:PDT
DTSTART:19700308T020000
RRULE:FREQ=YEARLY;BYMONTH=3;BYDAY=2SU
END:DAYLIGHT
BEGIN:STANDARD
TZOFFSETFROM:-0700
TZOFFSETTO:-0800
TZNAME:PST
DTSTART:19701101T020000
RRULE:FREQ=YEARLY;BYMONTH=11;BYDAY=1SU
END:STANDARD
END:VTIMEZONE
BEGIN:VEVENT
UID:1464587:Event:52300
DTSTAMP:20260421T051927Z
SUMMARY:|FLEX THURS | SPRING BREAK EDITION
DESCRIPTION:THURS APRIL 1ST, 2010\nWanubi Project, City Cat Sound, Reb
 ellion Sound & New Vibe Present:\n\nFLEX THURSDAYS \"SPRING BREAK EDIT
 ION\"\n\nThe weather is getting HOTTER, you got to understand where it
  will be necessary to be when it gets HOT! The ONLY place to be is di.
 ..\n\n\"AIR\" LOUNGE downtown Oakland!\nWe have all di ingredients to 
 mek di night sizzle, but cool yuh down at di same time! Come check us 
 out this Thursday!!!\n\nReggae :: Dancehall :: Remixes :: R&B\n\nWith 
 your favorite Selektas:\n\nYOUNG FYAH\n\nDJ HENROC (City Cat Sound)\n\
 nDJ POLO (Rebellion Sound & Reggae Gold)\n\nWe Lookin forward to see y
 ou in de place at the Bay Area’s Premier Nite Spot. Beautiful People
 , Music & Vibe to start your weekend off Nice!\n\nFLEX THURSDAYS\n@ Ai
 r Ultra Lounge\n492 9th – Oak\nFREE ALL NIGHT!!\nLower Outside Patio
  & Lounge\nCasual Dress & Good Attitude Required\nCelebrating a Birthd
 ay want to reserve a Booth?\nInfo: 510.444.2377 - 707.816.1432\nwww.dj
 henroc.com\nwww.airoakland.com\n\nFor more information visit https://t
 rueskool.com/events/flex-thurs-spring-break
DTSTART;TZID=America/Los_Angeles:20100401T220000
DTEND;TZID=America/Los_Angeles:20100402T020000
CATEGORIES:reggae, dancehall, "r&b", remixes
LOCATION:Air Lounge, Oakland, CA
WEBSITE:http://www.airoakland.com
URL:http://www.airoakland.com
CONTACT:
ORGANIZER;CN="DJ HENROC":https://trueskool.com/profile/DJHENROC
ATTACH;FMTTYPE="image/jpeg":http://storage.ning.com/topology/rest/1.0/
 file/get/2247875070?profile=original
ATTENDEE;ROLE=REQ-PARTICIPANT;PARTSTAT=ACCEPTED;RSVP=TRUE;CN="DJ HENRO
 C":https://trueskool.com/profile/DJHENROC
END:VEVENT
END:VCALENDAR
