BEGIN:VCALENDAR
PRODID:NingEventWidget-v1
VERSION:2.0
METHOD:PUBLISH
BEGIN:VTIMEZONE
TZID:America/Los_Angeles
X-LIC-LOCATION:America/Los_Angeles
BEGIN:DAYLIGHT
TZOFFSETFROM:-0800
TZOFFSETTO:-0700
TZNAME:PDT
DTSTART:19700308T020000
RRULE:FREQ=YEARLY;BYMONTH=3;BYDAY=2SU
END:DAYLIGHT
BEGIN:STANDARD
TZOFFSETFROM:-0700
TZOFFSETTO:-0800
TZNAME:PST
DTSTART:19701101T020000
RRULE:FREQ=YEARLY;BYMONTH=11;BYDAY=1SU
END:STANDARD
END:VTIMEZONE
BEGIN:VEVENT
UID:1464587:Event:271584
DTSTAMP:20260421T034947Z
SUMMARY:FLAVORS 90'S PARTY w/ DJ SPINNA, J.ROCC, DJ EVIL DEE & HOUSESH
 OES
DESCRIPTION:FLAVORS (Recapping The Music Of The 90's Era…The Golden 
 Years), is an event conceptualized by the innovative minds of Keistar 
 Productions and brought to the West Coast by Footlong_Development.  T
 he first installment of FLAVORS dates back to 2002 and was celebrated 
 with none other than the incomparable DJ SPINNA. For the 6th year stra
 ight 2 of the worlds best club DJs, DJ Spinna & J.ROCC return to LA fo
 r this annual sold out event.  This year joined by the co-motivator o
 f the 90’s Timberland boots and army fatigues movement, BlackMoon/Th
 e Beatminer's DJ Evil Dee!! With their extensive record collections an
 d vast knowledge of all things music they create havoc on the danceflo
 or with the unforgotten hits of 90's hip hop and RnB.  Opening set by
  HouseShoes.  Hosted by Cognito.\n\nFor more information visit https:
 //trueskool.com/events/flavors-90-s-party-w-dj-spinna-j-rocc-dj-evil-d
 ee-houseshoes
DTSTART;TZID=America/Los_Angeles:20131206T210000
DTEND;TZID=America/Los_Angeles:20131207T020000
CATEGORIES:dj, spinna, "j.rocc", evil, dee, house, shoes, beat, junkie
 s, stones, throw, "90's", hip, hop, golden, era, rnb, echoplex, echo, 
 black, moon, beatminers, detroit, new, york, los, angeles
LOCATION:Echoplex
WEBSITE:http://footlongdevelopment.com
URL:http://footlongdevelopment.com
CONTACT:
ORGANIZER;CN="Footlong Development":https://trueskool.com/profile/Foot
 longDevelopment
ATTACH;FMTTYPE="image/jpeg":http://storage.ning.com/topology/rest/1.0/
 file/get/2247953068?profile=original
ATTENDEE;ROLE=REQ-PARTICIPANT;PARTSTAT=ACCEPTED;RSVP=TRUE;CN="Footlong
  Development":https://trueskool.com/profile/FootlongDevelopment
END:VEVENT
END:VCALENDAR
