BEGIN:VCALENDAR
PRODID:NingEventWidget-v1
VERSION:2.0
METHOD:PUBLISH
BEGIN:VTIMEZONE
TZID:America/Los_Angeles
X-LIC-LOCATION:America/Los_Angeles
BEGIN:DAYLIGHT
TZOFFSETFROM:-0800
TZOFFSETTO:-0700
TZNAME:PDT
DTSTART:19700308T020000
RRULE:FREQ=YEARLY;BYMONTH=3;BYDAY=2SU
END:DAYLIGHT
BEGIN:STANDARD
TZOFFSETFROM:-0700
TZOFFSETTO:-0800
TZNAME:PST
DTSTART:19701101T020000
RRULE:FREQ=YEARLY;BYMONTH=11;BYDAY=1SU
END:STANDARD
END:VTIMEZONE
BEGIN:VEVENT
UID:1464587:Event:238726
DTSTAMP:20260421T023010Z
SUMMARY:FLAVORPILL presents ABSOLUT® Lunch Break with PEANUT BUTTER W
 OLF
DESCRIPTION:IT'S SUMMER - LET'S DANCE AT LUNCH TIME It's that time aga
 in, San Francisco desk jockeys. We at FLAVORPILL are bringing Your fav
 e free dance party back again this Friday with a special edition celeb
 rating ABSOLUT® Open Canvas – the transformation of a city block in
 to an outdoor art exhibit along Divisedero. Join us for just ONE hour,
  1-2pm, with Stones Throw head honcho PEANUT BUTTER WOLF on the scene,
  on the decks and on the dance-floor with his special Audio Visual Exp
 erience dance party !! Post-boogie, we'll send you back to work with a
  FREE lunch.  If you're feeling generous, donate some of your unused l
 unch money to our friends at the San Francisco & Marin Food Banks — 
 reps will be on-site to accept your donation. \nCome ready to sweat! R
 SVP HERE to get on the list, and let your friends know too where to ge
 t their Lunch Break in !! \nENJOY WITH ABSOLUT RESPONSIBILITY® ABSOL
 UT® VODKA. PRODUCT OF SWEDEN. 40% ALC./VOL. DISTILLED FROM GRAIN. ©2
 013 IMPORTED BY ABSOLUT SPIRITS CO., NEW YORK, NY.\n\nFor more informa
 tion visit https://trueskool.com/events/flavorpill-presents-absolut-lu
 nch-break-with-peanut-butter-wolf
DTSTART;TZID=America/Los_Angeles:20130830T130000
DTEND;TZID=America/Los_Angeles:20130830T140000
CATEGORIES:san, francisco
LOCATION:The Independent, San Francisco
WEBSITE:http://thehookup.flavorpill.com/absolutlunchbreak-free-lunch-s
 f/
URL:http://thehookup.flavorpill.com/absolutlunchbreak-free-lunch-sf/
CONTACT:
ORGANIZER:Jonathan Rudnick / Flavorpill
ATTACH;FMTTYPE="image/jpeg":http://storage.ning.com/topology/rest/1.0/
 file/get/2247946026?profile=original
ATTENDEE;ROLE=REQ-PARTICIPANT;PARTSTAT=ACCEPTED;RSVP=TRUE;CN="Jonathan
  Rudnick":https://trueskool.com/profile/JonathanRudnick
END:VEVENT
END:VCALENDAR
