BEGIN:VCALENDAR
PRODID:NingEventWidget-v1
VERSION:2.0
METHOD:PUBLISH
BEGIN:VTIMEZONE
TZID:America/Los_Angeles
X-LIC-LOCATION:America/Los_Angeles
BEGIN:DAYLIGHT
TZOFFSETFROM:-0800
TZOFFSETTO:-0700
TZNAME:PDT
DTSTART:19700308T020000
RRULE:FREQ=YEARLY;BYMONTH=3;BYDAY=2SU
END:DAYLIGHT
BEGIN:STANDARD
TZOFFSETFROM:-0700
TZOFFSETTO:-0800
TZNAME:PST
DTSTART:19701101T020000
RRULE:FREQ=YEARLY;BYMONTH=11;BYDAY=1SU
END:STANDARD
END:VTIMEZONE
BEGIN:VEVENT
UID:1464587:Event:233925
DTSTAMP:20260421T023004Z
SUMMARY:FLAVORPILL presents ABSOLUT® Lunch Break with MARK FARINA
DESCRIPTION:FLAVORPILL is delighted to share this unique and original 
 Lunch Break  dance party (already a sensation in NYC with resident Qu
 estlove), where we meet up to get down to the freshest DJs for just 1 
 hour. Bring the Heat (on the Dancefloor) !! and Get your weekend start
 ed a little early with legendary DJ Mark Farina. This house music and 
 jazz groove mainstay has taken his beats around the globe; this aftern
 oon, he's rocking ABSOLUT® Lunch Break for just one hour. After that,
  we'll send you back to work with a free lunch (as usual). RSVP HERE t
 o get on the list (yes it's FREE !), and let your friends know too whe
 re to get their Lunch Break in !!  If you can, donate some of your un
 used lunch money to our friends at the San Francisco and Marin Food Ba
 nks. Reps will be on-site to accept your generous donation. Every bit 
 helps! See you on the dance floor, SF \nENJOY WITH ABSOLUT RESPONSIBIL
 ITY® ABSOLUT® VODKA. PRODUCT OF SWEDEN. 40% ALC./VOL. DISTILLED FROM
  GRAIN. ©2013 IMPORTED BY ABSOLUT SPIRITS CO., NEW YORK, NY.\n\nFor m
 ore information visit https://trueskool.com/events/flavorpill-presents
 -absolut-lunch-break-with-mark-farina
DTSTART;TZID=America/Los_Angeles:20130816T130000
DTEND;TZID=America/Los_Angeles:20130816T140000
CATEGORIES:"bay area", "san francisco"
LOCATION:Harlot, SF, CA
WEBSITE:http://thehookup.flavorpill.com/absolutlunchbreak-head-spin-sf
 /
URL:http://thehookup.flavorpill.com/absolutlunchbreak-head-spin-sf/
CONTACT:
ORGANIZER:Jonathan Rudnick / Flavorpill
ATTACH;FMTTYPE="image/jpeg":http://storage.ning.com/topology/rest/1.0/
 file/get/2247945950?profile=original
ATTENDEE;ROLE=REQ-PARTICIPANT;PARTSTAT=ACCEPTED;RSVP=TRUE;CN="Jonathan
  Rudnick":https://trueskool.com/profile/JonathanRudnick
END:VEVENT
END:VCALENDAR
